BEGIN:VCALENDAR
VERSION:2.0
PRODID:-//ChamberMaster//Event Calendar 2.0//EN
METHOD:PUBLISH
X-PUBLISHED-TTL:P3D
REFRESH-INTERVAL:P3D
CALSCALE:GREGORIAN
BEGIN:VEVENT
DTSTART:20240911T130000Z
DTEND:20240911T143000Z
X-MICROSOFT-CDO-ALLDAYEVENT:FALSE
SUMMARY:Anoka County Commissioner Candidate Forum
DESCRIPTION:It might not be as attention grabbing as the presidential race\, but what happens at the county level is just as important to employers as any other race on your ballot this fall. We have invited all candidates for Anoka County Commissioner to share their thoughts on business-related issues\, why they are running for office\, and what their vision is for the region.\n\nAll MetroNorth Chamber members are welcome to attend this free moderated panel presentation\, with time for a Q&A session. Before the panel\, Anoka County Sheriff Brad Wise and County Attorney Brad Johnson will share their thoughts on their past two years in office as well as provide an update on public safety issues.\n\nThis forum is sure to be informative\, interesting\, and beneficial for attendees and candidates alike. No cost but RSVP required\; space is limited so do not delay!
X-ALT-DESC;FMTTYPE=text/html:<p>It might not be as attention grabbing as the presidential race\, but what happens at the county level is just as important to employers as any other race on your ballot this fall. We have invited all candidates for Anoka County Commissioner to share their thoughts on business-related issues\, why they are running for office\, and what their vision is for the region.</p>\n\n<p>All MetroNorth Chamber members are welcome to attend this free moderated panel presentation\, with time for a Q&amp\;A session. Before the panel\, Anoka County Sheriff Brad Wise and County Attorney Brad Johnson will share their thoughts on their past two years in office as well as provide an update on public safety issues.</p>\n\n<p>This forum is sure to be informative\, interesting\, and beneficial for attendees and candidates alike. No cost but RSVP required\; space is limited so do not delay!</p>\n
LOCATION:IDC (Industrial Door Company) 9385 Holly Street Coon Rapids
UID:e.380.202416
SEQUENCE:3
DTSTAMP:20260421T093313Z
URL:https://members.metronorthchamber.org/events/details/anoka-county-commissioner-candidate-forum-202416
END:VEVENT

END:VCALENDAR
