BEGIN:VCALENDAR
VERSION:2.0
PRODID:-//ChamberMaster//Event Calendar 2.0//EN
METHOD:PUBLISH
X-PUBLISHED-TTL:P3D
REFRESH-INTERVAL:P3D
CALSCALE:GREGORIAN
BEGIN:VEVENT
DTSTART:20150731T160000Z
DTEND:20150731T170000Z
X-MICROSOFT-CDO-ALLDAYEVENT:FALSE
SUMMARY:Young Professionals Leadership Meeting
DESCRIPTION:Join us and see what's happening with the Young Professionals committee! Our guest keynote will be a representative from Finnegans. Hear about this awesome company's success as well as their philanthropic activities.
X-ALT-DESC;FMTTYPE=text/html:Join us and see what&#39\;s happening with the Young Professionals committee! Our guest keynote will be a representative from Finnegans. Hear about this awesome company&#39\;s success as well as their philanthropic activities.
LOCATION:3M Championship Anoka County Tent TPC Twin Cities\, Blaine
UID:e.380.157862
SEQUENCE:3
DTSTAMP:20260423T054547Z
URL:http://members.metronorthchamber.org/events/details/young-professionals-leadership-meeting-07-31-2015-157862
END:VEVENT

END:VCALENDAR
