BEGIN:VCALENDAR
VERSION:2.0
PRODID:-//ChamberMaster//Event Calendar 2.0//EN
METHOD:PUBLISH
X-PUBLISHED-TTL:P3D
REFRESH-INTERVAL:P3D
CALSCALE:GREGORIAN
BEGIN:VEVENT
DTSTART:20140919T010000Z
DTEND:20140919T040000Z
X-MICROSOFT-CDO-ALLDAYEVENT:FALSE
SUMMARY:Young Professionals Glow Golf Event
DESCRIPTION:Golf 9 holes in the dark. Glow in the dark golf ball included\, bring your own clubs or rent from the pro shop.
X-ALT-DESC;FMTTYPE=text/html:Golf 9 holes in the dark. Glow in the dark golf ball included\, bring your own clubs or rent from the pro shop.
LOCATION:Majestic Oaks 701 Bunker Lake Blvd Ham Lake MN 55304
UID:e.380.151585
SEQUENCE:3
DTSTAMP:20260423T205710Z
URL:http://members.metronorthchamber.org/events/details/young-professionals-glow-golf-event-09-18-2014-151585
END:VEVENT

END:VCALENDAR
