BEGIN:VCALENDAR
VERSION:2.0
PRODID:-//ChamberMaster//Event Calendar 2.0//EN
METHOD:PUBLISH
X-PUBLISHED-TTL:P3D
REFRESH-INTERVAL:P3D
CALSCALE:GREGORIAN
BEGIN:VEVENT
DTSTART:20151022T213000Z
DTEND:20151022T223000Z
X-MICROSOFT-CDO-ALLDAYEVENT:FALSE
SUMMARY:Young Professionals Committee Mtg
DESCRIPTION:
X-ALT-DESC;FMTTYPE=text/html:
LOCATION:First Floor Conference Room 21st Century Bank Building (MetroNorth Chamber office location) 9380 Central Avenue NE Blaine 55434
UID:e.380.157857
SEQUENCE:3
DTSTAMP:20260422T234553Z
URL:http://members.metronorthchamber.org/events/details/young-professionals-committee-mtg-10-22-2015-157857
END:VEVENT

END:VCALENDAR
