BEGIN:VCALENDAR
VERSION:2.0
PRODID:-//ChamberMaster//Event Calendar 2.0//EN
METHOD:PUBLISH
X-PUBLISHED-TTL:P3D
REFRESH-INTERVAL:P3D
CALSCALE:GREGORIAN
BEGIN:VEVENT
DTSTART:20150820T213000Z
DTEND:20150820T223000Z
X-MICROSOFT-CDO-ALLDAYEVENT:FALSE
SUMMARY:Young Professionals Committee Mtg
DESCRIPTION:
X-ALT-DESC;FMTTYPE=text/html:
LOCATION:Kintaro's 105th and Hwy 65
UID:e.380.157855
SEQUENCE:3
DTSTAMP:20260423T043618Z
URL:http://members.metronorthchamber.org/events/details/young-professionals-committee-mtg-08-20-2015-157855
END:VEVENT

END:VCALENDAR
