BEGIN:VCALENDAR
VERSION:2.0
PRODID:-//ChamberMaster//Event Calendar 2.0//EN
METHOD:PUBLISH
X-PUBLISHED-TTL:P3D
REFRESH-INTERVAL:P3D
CALSCALE:GREGORIAN
BEGIN:VEVENT
DTSTART:20111117T220000Z
DTEND:20111117T230000Z
X-MICROSOFT-CDO-ALLDAYEVENT:FALSE
SUMMARY:Young Professionals
DESCRIPTION:
X-ALT-DESC;FMTTYPE=text/html:
LOCATION:Bunker Hills Harvest Grill\, Ham Lake
UID:e.380.141432
SEQUENCE:3
DTSTAMP:20260426T033741Z
URL:http://members.metronorthchamber.org/events/details/young-professionals-11-17-2011-141432
END:VEVENT

END:VCALENDAR
