BEGIN:VCALENDAR
VERSION:2.0
PRODID:-//ChamberMaster//Event Calendar 2.0//EN
METHOD:PUBLISH
X-PUBLISHED-TTL:P3D
REFRESH-INTERVAL:P3D
CALSCALE:GREGORIAN
BEGIN:VEVENT
DTSTART:20120828T170000Z
DTEND:20120828T180000Z
X-MICROSOFT-CDO-ALLDAYEVENT:FALSE
SUMMARY:Young Professionals
DESCRIPTION:Young Professionals Board Meeting\n\n\n\nWant to cultivate future leaders? Our YOUNG PROFESSIONALS OF MINNESOTA group plans civic & social opportunities for leadership development.
X-ALT-DESC;FMTTYPE=text/html:<span style="font-size: 11px"><span style="font-family: tahoma"><span style="color: rgb(0\,0\,128)"><strong>Young Professionals Board Meeting</strong></span><br />\n<br />\n<span style="color: rgb(0\,0\,128)">Want to cultivate future leaders? Our YOUNG PROFESSIONALS OF MINNESOTA group plans civic &amp\; social opportunities for leadership development.</span></span></span>
LOCATION:T.G.I. Friday's 12519 Riverdale Blvd Coon Rapids
UID:e.380.143186
SEQUENCE:3
DTSTAMP:20260425T125056Z
URL:http://members.metronorthchamber.org/events/details/young-professionals-08-28-2012-143186
END:VEVENT

END:VCALENDAR
