BEGIN:VCALENDAR
VERSION:2.0
PRODID:-//ChamberMaster//Event Calendar 2.0//EN
METHOD:PUBLISH
X-PUBLISHED-TTL:P3D
REFRESH-INTERVAL:P3D
CALSCALE:GREGORIAN
BEGIN:VEVENT
DTSTART:20120731T170000Z
DTEND:20120731T180000Z
X-MICROSOFT-CDO-ALLDAYEVENT:FALSE
SUMMARY:Young Professionals
DESCRIPTION:Young Professionals Board Meeting\n\n\n\nWant to cultivate future leaders? Our YOUNG PROFESSIONALS OF MINNESOTA group plans civic & social opportunities for leadership development.
X-ALT-DESC;FMTTYPE=text/html:<span style="font-size:11px\;"><span style="font-family: tahoma\;"><span style="color: rgb(0\, 0\, 128)\;"><strong>Young Professionals Board Meeting</strong></span><br />\n<br />\n<span style="color: rgb(0\, 0\, 128)\;">Want to cultivate future leaders? Our YOUNG PROFESSIONALS OF MINNESOTA group plans civic &amp\; social opportunities for leadership development.</span></span></span>
LOCATION:J.J. Murphy's Irish Pub 10400 Baltimore St NE #200 Blaine\, MN 55449
UID:e.380.143185
SEQUENCE:3
DTSTAMP:20260425T142732Z
URL:http://members.metronorthchamber.org/events/details/young-professionals-07-31-2012-143185
END:VEVENT

END:VCALENDAR
