BEGIN:VCALENDAR
VERSION:2.0
PRODID:-//ChamberMaster//Event Calendar 2.0//EN
METHOD:PUBLISH
X-PUBLISHED-TTL:P3D
REFRESH-INTERVAL:P3D
CALSCALE:GREGORIAN
BEGIN:VEVENT
DTSTART:20120626T170000Z
DTEND:20120626T180000Z
X-MICROSOFT-CDO-ALLDAYEVENT:FALSE
SUMMARY:Young Professionals
DESCRIPTION:Young Professionals Board Meeting\n\n\n\nWant to cultivate future leaders? Our YOUNG PROFESSIONALS OF MINNESOTA group plans civic & social opportunities for leadership development.
X-ALT-DESC;FMTTYPE=text/html:<span style="font-size:11px\;"><span style="font-family: tahoma\;"><span style="color: rgb(0\, 0\, 128)\;"><strong>Young Professionals Board Meeting</strong></span><br />\n<br />\n<span style="color: rgb(0\, 0\, 128)\;">Want to cultivate future leaders? Our YOUNG PROFESSIONALS OF MINNESOTA group plans civic &amp\; social opportunities for leadership development.</span></span></span>
LOCATION:Cityside Bar and Grill 133 Coon Rapids Blvd NW Coon Rapids\, MN 55433
UID:e.380.143184
SEQUENCE:3
DTSTAMP:20260425T161438Z
URL:http://members.metronorthchamber.org/events/details/young-professionals-06-26-2012-143184
END:VEVENT

END:VCALENDAR
