BEGIN:VCALENDAR
VERSION:2.0
PRODID:-//ChamberMaster//Event Calendar 2.0//EN
METHOD:PUBLISH
X-PUBLISHED-TTL:P3D
REFRESH-INTERVAL:P3D
CALSCALE:GREGORIAN
BEGIN:VEVENT
DTSTART:20120529T170000Z
DTEND:20120529T180000Z
X-MICROSOFT-CDO-ALLDAYEVENT:FALSE
SUMMARY:Young Professionals
DESCRIPTION:Young Professionals Board Meeting
X-ALT-DESC;FMTTYPE=text/html:<span style="color:#000080\;"><strong><span style="font-size: 11px\;"><span style="font-family: tahoma\;">Young Professionals Board Meeting</span></span></strong></span>
LOCATION:Dixie Blue Bar-B-Que 2330 Cloud Dr. #101 Blaine\, MN 55449
UID:e.380.143183
SEQUENCE:3
DTSTAMP:20260425T174857Z
URL:http://members.metronorthchamber.org/events/details/young-professionals-05-29-2012-143183
END:VEVENT

END:VCALENDAR
