BEGIN:VCALENDAR
VERSION:2.0
PRODID:-//ChamberMaster//Event Calendar 2.0//EN
METHOD:PUBLISH
X-PUBLISHED-TTL:P3D
REFRESH-INTERVAL:P3D
CALSCALE:GREGORIAN
BEGIN:VEVENT
DTSTART:20120327T170000Z
DTEND:20120327T180000Z
X-MICROSOFT-CDO-ALLDAYEVENT:FALSE
SUMMARY:Young Professionals
DESCRIPTION:Young Professionals Board Meeting
X-ALT-DESC;FMTTYPE=text/html:<span style="color:#000080\;"><strong><span style="font-size: 11px\;"><span style="font-family: tahoma\;">Young Professionals Board Meeting</span></span></strong></span>
LOCATION:Linwood Pizza 641 - 125th Ave NE Blaine\, MN 55434
UID:e.380.143181
SEQUENCE:3
DTSTAMP:20260425T210654Z
URL:http://members.metronorthchamber.org/events/details/young-professionals-03-27-2012-143181
END:VEVENT

END:VCALENDAR
