BEGIN:VCALENDAR
VERSION:2.0
PRODID:-//ChamberMaster//Event Calendar 2.0//EN
METHOD:PUBLISH
X-PUBLISHED-TTL:P3D
REFRESH-INTERVAL:P3D
CALSCALE:GREGORIAN
BEGIN:VEVENT
DTSTART:20120229T233000Z
DTEND:20120301T010000Z
X-MICROSOFT-CDO-ALLDAYEVENT:FALSE
SUMMARY:Young Leaders Leap Day Movie Premiere "Eat\, Sleep\, Hockey."
DESCRIPTION:The Young Professionals of Minnesota are proud to announce the national premiere of the documentary film "Eat\, Sleep\, Hockey."\n\n\n\n A window into the world of Minnesota hockey culture featuring two prominent Minnesota hockey families.\n\n\n\n5:30pm - Meet & greet with movie cast/film crew and networking with community\, business and political leaders. Photo opportunities available. \n\n\n\n6:30pm - National Premiere of "Eat\, Sleep\, Hockey." - by Damian Kussian & North Metro TV.\n\n\n\nThe cost to attend is only $5.00 and all proceeds will go towards youth sports programs. Blaine Youth Hockey Association and Centennial Youth Hockey Association.\n\n\n\nhttp://www.byha.org/\n\n http:// www.centennialhockey.org/
X-ALT-DESC;FMTTYPE=text/html:<span style="font-size:11px\;"><span style="color: rgb(0\, 0\, 128)\;"><span style="font-family: tahoma\;">The Young Professionals of Minnesota are proud to announce the national premiere of the documentary film &quot\;Eat\, Sleep\, Hockey.&quot\;</span></span><br />\n<br />\n<span style="color:#000080\;"><span style="font-family: tahoma\;"> A window into the world of Minnesota hockey culture featuring two prominent Minnesota hockey families.</span></span></span><br />\n<br />\n<font face="Times New Roman" size="3"><span style="\nfont-size:12.0pt\;"><span style="color:#000080\;"><span style="font-size: 11px\;"><span style="font-family: tahoma\;"><span class="yiv869658846textexposedshow">5:30pm - Meet &amp\; greet with movie cast/film crew and networking with community\, business and political leaders. Photo opportunities available. </span><br />\n<br />\n<span class="yiv869658846textexposedshow">6:30pm - National Premiere of &quot\;Eat\, Sleep\, Hockey.&quot\; - by Damian Kussian &amp\; North Metro TV.</span></span></span></span></span></font><br />\n<br />\n<span style="color:#000080\;"><span style="font-size: 11px\;"><span style="font-family: tahoma\;"><span class="yiv869658846textexposedshow">The cost to attend is only $5.00 and <b><span style="font-weight: bold\;">all proceeds will go towards youth sports programs</span></b>. Blaine Youth Hockey Association and Centennial Youth Hockey Association.</span><br />\n<br />\n</span></span></span><span style="font-size:11px\;"><span style="font-family: tahoma\;"><span class="yiv869658846textexposedshow"><a href="http://www.byha.org/" rel="nofollow" target="_blank"><span style="color:#000080\;"><span class="yshortcuts" id="lw_1328981848_1">http://www.byha.org/</span></span></a></span><br />\n<span style="color:#000080\;"> </span><span class="yiv869658846textexposedshow"><a href="http://www.centennialhockey.org/" rel="nofollow" target="_blank"><span style="color:#000080\;"><span class="yshortcuts">http:// www.centennialhockey.org/</span></span></a></span></span></span><br />\n<br />\n<iframe allowfullscreen="" frameborder="0" height="315" src="http://www.youtube.com/embed/4HQwpwX7JNo" width="560"></iframe>
LOCATION:Andover Cinema 1836 Bunker Lake Blvd Andover\, MN 55448
UID:e.380.143469
SEQUENCE:3
DTSTAMP:20260425T230032Z
URL:http://members.metronorthchamber.org/events/details/young-leaders-leap-day-movie-premiere-eat-sleep-hockey-02-29-2012-143469
END:VEVENT

END:VCALENDAR
