BEGIN:VCALENDAR
VERSION:2.0
PRODID:-//ChamberMaster//Event Calendar 2.0//EN
METHOD:PUBLISH
X-PUBLISHED-TTL:P3D
REFRESH-INTERVAL:P3D
CALSCALE:GREGORIAN
BEGIN:VEVENT
DTSTART:20191115T160000Z
DTEND:20191115T170000Z
X-MICROSOFT-CDO-ALLDAYEVENT:FALSE
SUMMARY:YogaFaith
DESCRIPTION:YogaFaith is a Christ-centered yoga class. It is a way to connect yoga and worship through prayer in motion.\n\nYogaFaith is accredited by the nationally-recognized Yoga Alliance.\n\nThis class is open to adults of all ages\, shapes and sizes. Those new to yoga are welcome!\n\nWhat to bring: a yoga mat (there are a limited number of mats available if you don't have one)\, water bottle and comfortable workout clothes.\n\nInstructor:  Maria Walde-Douglas is a 200 hour YogaFaith Registered Trainer (RYT). She is a middle-aged mom who enjoys working out but is neither overly flexible or uber fit! She works part-time as a physical therapist and enjoys cycling\, hiking on the North Shore and knitting.  She enjoys combining her Christian faith with her love of yoga and making it accessible to anyBODY.
X-ALT-DESC;FMTTYPE=text/html:<p><span style="font-size:14.0pt">YogaFaith is a Christ-centered yoga class. It is a way to connect yoga and worship through prayer in motion.</span></p>\n\n<p><span style="font-size:14.0pt">YogaFaith is accredited by the nationally-recognized Yoga Alliance.</span></p>\n\n<p><span style="font-size:14.0pt">This class is open to adults of all ages\, shapes and sizes. Those new to yoga are welcome!</span></p>\n\n<p><span style="font-size:14.0pt">What to bring: a yoga mat (there are a limited number of mats available if you don&#39\;t have one)\, water bottle and comfortable workout clothes.</span></p>\n\n<p><span style="font-size:14.0pt">Instructor:&nbsp\; Maria Walde-Douglas is a 200 hour YogaFaith Registered Trainer (RYT). She is a middle-aged mom who enjoys working out but is neither overly flexible or uber fit! She works part-time as a physical therapist and enjoys cycling\, hiking on the North Shore and knitting.&nbsp\; She enjoys combining her Christian faith with her love of yoga and making it accessible to anyBODY.</span></p>\n\n<p>&nbsp\;</p>\n
LOCATION:1460 133rd Lane NE\, Ham Lake
UID:e.380.191643
SEQUENCE:3
DTSTAMP:20260419T161248Z
URL:http://members.metronorthchamber.org/events/details/yogafaith-11-15-2019-191643
END:VEVENT

END:VCALENDAR
