BEGIN:VCALENDAR
VERSION:2.0
PRODID:-//ChamberMaster//Event Calendar 2.0//EN
METHOD:PUBLISH
X-PUBLISHED-TTL:P3D
REFRESH-INTERVAL:P3D
CALSCALE:GREGORIAN
BEGIN:VEVENT
DTSTART:20190222T160000Z
DTEND:20190222T170000Z
X-MICROSOFT-CDO-ALLDAYEVENT:FALSE
SUMMARY:YogaFaith
DESCRIPTION:YogaFaith is a Christ-centered yoga class. It is a way to connect yoga and worship through prayer in motion.
X-ALT-DESC;FMTTYPE=text/html:<span style="font-size:14.0pt">YogaFaith is a Christ-centered yoga class. It is a way to connect yoga and worship through prayer in motion.</span>
LOCATION:1460 133rd Lane NE\, Ham Lake
UID:e.380.187926
SEQUENCE:3
DTSTAMP:20260420T073547Z
URL:http://members.metronorthchamber.org/events/details/yogafaith-02-22-2019-187926
END:VEVENT

END:VCALENDAR
