BEGIN:VCALENDAR
VERSION:2.0
PRODID:-//ChamberMaster//Event Calendar 2.0//EN
METHOD:PUBLISH
X-PUBLISHED-TTL:P3D
REFRESH-INTERVAL:P3D
CALSCALE:GREGORIAN
BEGIN:VEVENT
DTSTART:20171220T000000Z
DTEND:20171220T010000Z
X-MICROSOFT-CDO-ALLDAYEVENT:FALSE
SUMMARY:Yoga
DESCRIPTION:Zimmerman Physical Therapy offers Yoga Classes! Instructed by our Physical Therapist Assistant/Certified Sports Yoga Instructor.
X-ALT-DESC;FMTTYPE=text/html:Zimmerman Physical Therapy offers Yoga Classes! Instructed by our Physical Therapist Assistant/Certified Sports Yoga Instructor.&nbsp\;
LOCATION:Zimmerman Physical Therapy 26025 3rd St E Zimmerman\, MN 55398
UID:e.380.171874
SEQUENCE:3
DTSTAMP:20260421T051552Z
URL:http://members.metronorthchamber.org/events/details/yoga-12-19-2017-171874
END:VEVENT

END:VCALENDAR
