BEGIN:VCALENDAR
VERSION:2.0
PRODID:-//ChamberMaster//Event Calendar 2.0//EN
METHOD:PUBLISH
X-PUBLISHED-TTL:P3D
REFRESH-INTERVAL:P3D
CALSCALE:GREGORIAN
BEGIN:VEVENT
DTSTART:20170815T230000Z
DTEND:20170816T000000Z
X-MICROSOFT-CDO-ALLDAYEVENT:FALSE
SUMMARY:Yoga
DESCRIPTION:Zimmerman Physical Therapy offers Yoga Classes! Instructed by our Physical Therapist Assistant/Certified Sports Yoga Instructor.
X-ALT-DESC;FMTTYPE=text/html:Zimmerman Physical Therapy offers Yoga Classes! Instructed by our Physical Therapist Assistant/Certified Sports Yoga Instructor.&nbsp\;
LOCATION:Zimmerman Physical Therapy 26025 3rd St E Zimmerman\, MN 55398
UID:e.380.171856
SEQUENCE:3
DTSTAMP:20260421T121426Z
URL:http://members.metronorthchamber.org/events/details/yoga-08-15-2017-171856
END:VEVENT

END:VCALENDAR
