BEGIN:VCALENDAR
VERSION:2.0
PRODID:-//ChamberMaster//Event Calendar 2.0//EN
METHOD:PUBLISH
X-PUBLISHED-TTL:P3D
REFRESH-INTERVAL:P3D
CALSCALE:GREGORIAN
BEGIN:VEVENT
DTSTART;VALUE=DATE:20180607
DTEND;VALUE=DATE:20180611
TRANSP:TRANSPARENT
X-MICROSOFT-CDO-ALLDAYEVENT:TRUE
SUMMARY:Yard Sale Fundraiser
DESCRIPTION:Sale is Thursday-Saturday\, 9:00am - 5:00pm\, and Sunday\, noon-5:00.
X-ALT-DESC;FMTTYPE=text/html:Sale is Thursday-Saturday\, 9:00am - 5:00pm\, and Sunday\, noon-5:00.
LOCATION:Life Prep Academy 1628 County Highway 10 NE Spring Lake Park 55432
UID:e.380.185346
SEQUENCE:3
DTSTAMP:20260420T200146Z
URL:http://members.metronorthchamber.org/events/details/yard-sale-fundraiser-185346
END:VEVENT

END:VCALENDAR
