BEGIN:VCALENDAR
VERSION:2.0
PRODID:-//ChamberMaster//Event Calendar 2.0//EN
METHOD:PUBLISH
X-PUBLISHED-TTL:P3D
REFRESH-INTERVAL:P3D
CALSCALE:GREGORIAN
BEGIN:VEVENT
DTSTART:20191228T180000Z
DTEND:20191229T020000Z
X-MICROSOFT-CDO-ALLDAYEVENT:FALSE
SUMMARY:X-GOLF BLAINE GRAND OPENING
DESCRIPTION:Door Prizes\, 50% off Food and Drinks\, FREE GOLF
X-ALT-DESC;FMTTYPE=text/html:Door Prizes\, 50% off Food and Drinks\, FREE GOLF
LOCATION:298 Northtown Dr Blaine\, MN 55434
UID:e.380.191797
SEQUENCE:3
DTSTAMP:20260419T142526Z
URL:http://members.metronorthchamber.org/events/details/x-golf-blaine-grand-opening-191797
END:VEVENT

END:VCALENDAR
