BEGIN:VCALENDAR
VERSION:2.0
PRODID:-//ChamberMaster//Event Calendar 2.0//EN
METHOD:PUBLISH
X-PUBLISHED-TTL:P3D
REFRESH-INTERVAL:P3D
CALSCALE:GREGORIAN
BEGIN:VEVENT
DTSTART:20161108T003000Z
DTEND:20161108T030000Z
X-MICROSOFT-CDO-ALLDAYEVENT:FALSE
SUMMARY:Mary Kay WOW Night!
DESCRIPTION:An evening of inspiring stories\, celebration and food!\n\n\n\nBeauty Stations:\n\nDelightful Surprises\n\nFlawless & Flirty\n\nGlow & Tell\n\nHoliday Kisses\n\nStocking Stuffers\n\nand MORE!!\n\n\n\nFeaturing:\n\n-Doorprize drawings for all guests\n\n-Designer handbag giveaway (1 entry for Hostesses Oct. 1-Nov. 7)\n\n\n\nRecognition for:\n\n-New & Promoted Consultants\n\n-Sept. & Oct. Embracelet Achievers\n\n\n\nInspiring words from DIQs & New Directors\n\nHoliday Inn-East\n\n2201 Burns Avenue\n\nSt.Paul\, MN 55119\n\nRSVP by 7:00pm Friday\, November 4th
X-ALT-DESC;FMTTYPE=text/html:<p><span style="background-color:rgb(255\, 255\, 255)\; color:rgb(29\, 33\, 41)\; font-family:helvetica\,arial\,sans-serif\; font-size:14px">An evening of inspiring stories\, celebration and food!</span><br />\n<br />\n<span style="background-color:rgb(255\, 255\, 255)\; color:rgb(29\, 33\, 41)\; font-family:helvetica\,arial\,sans-serif\; font-size:14px">Beauty Stations:</span><br />\n<span style="background-color:rgb(255\, 255\, 255)\; color:rgb(29\, 33\, 41)\; font-family:helvetica\,arial\,sans-serif\; font-size:14px">Delightful Surprises</span><br />\n<span style="background-color:rgb(255\, 255\, 255)\; color:rgb(29\, 33\, 41)\; font-family:helvetica\,arial\,sans-serif\; font-size:14px">Flawless &amp\; Flirty</span><br />\n<span style="background-color:rgb(255\, 255\, 255)\; color:rgb(29\, 33\, 41)\; font-family:helvetica\,arial\,sans-serif\; font-size:14px">Glow &amp\; Tell</span><br />\n<span style="background-color:rgb(255\, 255\, 255)\; color:rgb(29\, 33\, 41)\; font-family:helvetica\,arial\,sans-serif\; font-size:14px">Holiday Kisses</span><br />\n<span style="background-color:rgb(255\, 255\, 255)\; color:rgb(29\, 33\, 41)\; font-family:helvetica\,arial\,sans-serif\; font-size:14px">Stocking Stuffers</span><br />\n<span style="background-color:rgb(255\, 255\, 255)\; color:rgb(29\, 33\, 41)\; font-family:helvetica\,arial\,sans-serif\; font-size:14px">and MORE!!</span><br />\n<br />\n<span style="background-color:rgb(255\, 255\, 255)\; color:rgb(29\, 33\, 41)\; font-family:helvetica\,arial\,sans-serif\; font-size:14px">Featuring:</span><br />\n<span style="background-color:rgb(255\, 255\, 255)\; color:rgb(29\, 33\, 41)\; font-family:helvetica\,arial\,sans-serif\; font-size:14px">-Doorprize drawings for all guests</span><br />\n<span style="background-color:rgb(255\, 255\, 255)\; color:rgb(29\, 33\, 41)\; font-family:helvetica\,arial\,sans-serif\; font-size:14px">-Designer handbag giveaway (1 entry for Hostesses Oct. 1-Nov. 7)<br />\n<br />\nRecognition for:<br />\n-New &amp\; Promoted Consultants<br />\n-Sept. &amp\; Oct. Embracelet Achievers<br />\n<br />\nInspiring words from DIQs &amp\; New Directors</span></p>\n\n<p><span style="background-color:rgb(255\, 255\, 255)\; color:rgb(51\, 51\, 51)\; font-family:sans-serif\,arial\,verdana\,trebuchet ms\; font-size:13px">Holiday Inn-East</span><br />\n2201 Burns Avenue<br />\n<span style="background-color:rgb(255\, 255\, 255)\; color:rgb(51\, 51\, 51)\; font-family:sans-serif\,arial\,verdana\,trebuchet ms\; font-size:13px">St.Paul\, MN 55119</span></p>\n\n<p>RSVP by 7:00pm Friday\, November 4th</p>\n
LOCATION:Holiday Inn-East 2201 Burns Avenue St.Paul\, MN 55119
UID:e.380.169119
SEQUENCE:3
DTSTAMP:20260422T014516Z
URL:http://members.metronorthchamber.org/events/details/wow-beauty-bash-08-22-2016-169119
END:VEVENT

END:VCALENDAR
