BEGIN:VCALENDAR
VERSION:2.0
PRODID:-//ChamberMaster//Event Calendar 2.0//EN
METHOD:PUBLISH
X-PUBLISHED-TTL:P3D
REFRESH-INTERVAL:P3D
CALSCALE:GREGORIAN
BEGIN:VEVENT
DTSTART:20140412T140000Z
DTEND:20140412T170000Z
X-MICROSOFT-CDO-ALLDAYEVENT:FALSE
SUMMARY:Workshop: What would you LOVE? A Visioning Experience with Kimberly Laine
DESCRIPTION:Most people spend more time planning where to go on their vacation than they spend planning where they want to go in life.  Ask yourself "what would I LOVE" for my life?  Join me as we do an exercise in DreamBuilding   building the life you LOVE in the areas of your health\, relationships\, career/creative expression and financial freedom.  Do you want to live the same year 90 times\, or spend 90 years living the life you LOVE?\n\n\n\nAlong with creating your vision\, we will learn 2 essential keys for tuning into your purpose and a 5 point test to determine if your dream is right for you.
X-ALT-DESC;FMTTYPE=text/html:&nbsp\;<br />\n<span style="font-family:comic sans ms\;"><span style="font-size:9.0pt\;">Most people spend more time planning where to go on their vacation than they spend planning where they want to go in life.&nbsp\; Ask yourself &ldquo\;what would I LOVE&rdquo\; for my life? &nbsp\;Join me as we do an exercise in DreamBuilding &ndash\; building the life you LOVE in the areas of your health\, relationships\, career/creative expression and financial freedom.&nbsp\; Do you want to live the same year 90 times\, or spend 90 years living the life you LOVE?</span></span><br />\n<br />\n<span style="font-family:comic sans ms\;"><span style="font-size:9.0pt\;">Along with creating your vision\, we will learn 2 essential keys for tuning into your purpose and a 5 point test to determine if your dream is right for you.</span></span>
LOCATION:The Metamorphasis Center 1301 Cliff Road\, Suite 105 Burnsville\, MN 55337
UID:e.380.150706
SEQUENCE:3
DTSTAMP:20260424T044154Z
URL:http://members.metronorthchamber.org/events/details/workshop-what-would-you-love-a-visioning-experience-with-kimberly-laine-04-12-2014-150706
END:VEVENT

END:VCALENDAR
