BEGIN:VCALENDAR
VERSION:2.0
PRODID:-//ChamberMaster//Event Calendar 2.0//EN
METHOD:PUBLISH
X-PUBLISHED-TTL:P3D
REFRESH-INTERVAL:P3D
CALSCALE:GREGORIAN
BEGIN:VEVENT
DTSTART:20140405T140000Z
DTEND:20140405T170000Z
X-MICROSOFT-CDO-ALLDAYEVENT:FALSE
SUMMARY:Workshop: What would you LOVE? A Visioning Experience with Kimberly Laine
DESCRIPTION:Most people spend more time planning where to go on their vacation than they spend planning where they want to go in life.  Ask yourself "what would I LOVE" for my life?  Join me as we do an exercise in DreamBuilding   building the life you LOVE in the areas of your health\, relationships\, career/creative expression and financial freedom.  Do you want to live the same year 90 times\, or spend 90 years living the life you LOVE?\n\n\n\nAlong with creating your vision\, we will learn 2 essential keys for tuning into your purpose and a 5 point test to determine if your dream is right for you.\n\n\n\nSaturday April 5 9am to Noon at\n\nThe Holistic Gateway \n\n1415 6th Street NE\, Unit 2\n\nMinneapolis\, MN 55413\n\n\n\nTo register contact Kim\n\nEmail kimlainedbc@gmail.com\n\nor\n\ncall 763-350-7551\n\n\n\nRegistration $35.00 before April 1\, 2014 or $45.00 at the door
X-ALT-DESC;FMTTYPE=text/html:<span style="font-family:comic sans ms\;"><span style="font-size:9.0pt\;">Most people spend more time planning where to go on their vacation than they spend planning where they want to go in life.&nbsp\; Ask yourself &ldquo\;what would I LOVE&rdquo\; for my life? &nbsp\;Join me as we do an exercise in DreamBuilding &ndash\; building the life you LOVE in the areas of your health\, relationships\, career/creative expression and financial freedom.&nbsp\; Do you want to live the same year 90 times\, or spend 90 years living the life you LOVE?</span></span><br />\n<br />\n<span style="font-family:comic sans ms\;"><span style="font-size:9.0pt\;">Along with creating your vision\, we will learn 2 essential keys for tuning into your purpose and a 5 point test to determine if your dream is right for you.<br />\n<br />\nSaturday April 5 9am to Noon at<br />\nThe Holistic Gateway&nbsp\;</span></span><br />\n<span style="font-size:12px\;"><span style="font-family: comic sans ms\;">1415 6<sup>th</sup> Street NE\, Unit 2<br />\nMinneapolis\, MN 55413</span></span><br />\n<br />\n<span style="font-size:12px\;"><span style="font-family: comic sans ms\;">To register contact Kim<br />\nEmail&nbsp\;kimlainedbc@gmail.com<br />\nor<br />\ncall 763-350-7551<br />\n<br />\nRegistration $35.00 before April 1\, 2014 or $45.00 at the door</span></span>
LOCATION:The Holistic Gateway 1415 6th Street NE\, Unit 2 Minneapolis\, MN 55413
UID:e.380.150705
SEQUENCE:3
DTSTAMP:20260424T044251Z
URL:http://members.metronorthchamber.org/events/details/workshop-what-would-you-love-a-visioning-experience-with-kimberly-laine-04-05-2014-150705
END:VEVENT

END:VCALENDAR
