BEGIN:VCALENDAR
VERSION:2.0
PRODID:-//ChamberMaster//Event Calendar 2.0//EN
METHOD:PUBLISH
X-PUBLISHED-TTL:P3D
REFRESH-INTERVAL:P3D
CALSCALE:GREGORIAN
BEGIN:VEVENT
DTSTART:20111214T151500Z
DTEND:20111214T170000Z
X-MICROSOFT-CDO-ALLDAYEVENT:FALSE
SUMMARY:Working with Women Meeting
DESCRIPTION:All MetroNorth members welcome to join us for this networking group that seeks to CONNECT\, INFORM\, AND EDUCATE the businesswomen of Anoka County!
X-ALT-DESC;FMTTYPE=text/html:<p>\n	All MetroNorth members welcome to join us for this networking group that seeks to CONNECT\, INFORM\, AND EDUCATE the businesswomen of Anoka County!</p>\n
LOCATION:Rasmussen College\, Blaine Campus 3629 95th Ave NE Blaine\, MN 55014
UID:e.380.143021
SEQUENCE:3
DTSTAMP:20260426T015646Z
URL:http://members.metronorthchamber.org/events/details/working-with-women-meeting-12-14-2011-143021
END:VEVENT

END:VCALENDAR
