BEGIN:VCALENDAR
VERSION:2.0
PRODID:-//ChamberMaster//Event Calendar 2.0//EN
METHOD:PUBLISH
X-PUBLISHED-TTL:P3D
REFRESH-INTERVAL:P3D
CALSCALE:GREGORIAN
BEGIN:VEVENT
DTSTART:20181114T173000Z
DTEND:20181114T190000Z
X-MICROSOFT-CDO-ALLDAYEVENT:FALSE
SUMMARY:Working with Women Fall Extravaganza
DESCRIPTION:Enjoy a fashion show by the Crystal House Boutique\, followed by spontaneous audience 'make overs.' Door prizes & lunch included!
X-ALT-DESC;FMTTYPE=text/html:Enjoy a fashion show by the Crystal House Boutique\, followed by spontaneous audience &#39\;make overs.&#39\; Door prizes &amp\; lunch included!&nbsp\;
LOCATION:SBM Fire Station #3 11920 Ulysses Street NE Blaine 55434
UID:e.380.187129
SEQUENCE:3
DTSTAMP:20260420T120954Z
URL:http://members.metronorthchamber.org/events/details/working-with-women-fall-extravaganza-187129
END:VEVENT

END:VCALENDAR
