BEGIN:VCALENDAR
VERSION:2.0
PRODID:-//ChamberMaster//Event Calendar 2.0//EN
METHOD:PUBLISH
X-PUBLISHED-TTL:P3D
REFRESH-INTERVAL:P3D
CALSCALE:GREGORIAN
BEGIN:VEVENT
DTSTART:20131003T214500Z
DTEND:20131003T230000Z
X-MICROSOFT-CDO-ALLDAYEVENT:FALSE
SUMMARY:Working With Women Clothing Swap supporting Alexandra House
DESCRIPTION:$20 donation (100% of donations will go to Alexandra House)\n\n\n\nBring 10 items in good condition\, receive opportunity to swap for similar item (i.e.\, accessory for accessory\, clothing for clothing\, etc)
X-ALT-DESC;FMTTYPE=text/html:$20 donation (100% of donations will go to Alexandra House)<br />\n<br />\nBring 10 items in good condition\, receive opportunity to swap for similar item (i.e.\, accessory for accessory\, clothing for clothing\, etc)
LOCATION:Gould's Diamonds & Jewelry 700 East Main St. Anoka\, MN 55303
UID:e.380.149513
SEQUENCE:3
DTSTAMP:20260424T144358Z
URL:http://members.metronorthchamber.org/events/details/working-with-women-clothing-swap-supporting-alexandra-house-10-03-2013-149513
END:VEVENT

END:VCALENDAR
