BEGIN:VCALENDAR
VERSION:2.0
PRODID:-//ChamberMaster//Event Calendar 2.0//EN
METHOD:PUBLISH
X-PUBLISHED-TTL:P3D
REFRESH-INTERVAL:P3D
CALSCALE:GREGORIAN
BEGIN:VEVENT
DTSTART:20200325T143000Z
DTEND:20200325T153000Z
X-MICROSOFT-CDO-ALLDAYEVENT:FALSE
SUMMARY:Working With Women
DESCRIPTION:Speaker: Aleesha Webb\n\nTopic: "Be Known When You Can't Be Present"\n\n \n\nThe north metro's most dynamic women's networking group\, designed for busy professionals\, with over 50 women connecting each month to build business\, build relationships and strengthen the community.
X-ALT-DESC;FMTTYPE=text/html:<span style="font-size: 16px\;">Speaker: Aleesha Webb<br />\nTopic: &quot\;Be Known When You Can&#39\;t Be Present&quot\;</span><br />\n&nbsp\;<br />\n<span style="font-size: 16px\;">The north metro&#39\;s most dynamic women&#39\;s networking group\, designed for busy professionals\, with over 50 women connecting each month to build business\, build relationships and strengthen the community.</span>
LOCATION:TO BE HELD VIRTUALLY. CONTACT OUR OFFICE FOR INFORMATION.
UID:e.380.191659
SEQUENCE:3
DTSTAMP:20260419T124658Z
URL:http://members.metronorthchamber.org/events/details/working-with-women-191659
END:VEVENT

END:VCALENDAR
