BEGIN:VCALENDAR
VERSION:2.0
PRODID:-//ChamberMaster//Event Calendar 2.0//EN
METHOD:PUBLISH
X-PUBLISHED-TTL:P3D
REFRESH-INTERVAL:P3D
CALSCALE:GREGORIAN
BEGIN:VEVENT
DTSTART:20111116T151500Z
DTEND:20111116T163000Z
X-MICROSOFT-CDO-ALLDAYEVENT:FALSE
SUMMARY:Working with Women
DESCRIPTION:
X-ALT-DESC;FMTTYPE=text/html:
LOCATION:Rasmussen College - Blaine Campus (NE corner of 35W & 95th Ave)
UID:e.380.142854
SEQUENCE:3
DTSTAMP:20260426T032925Z
URL:http://members.metronorthchamber.org/events/details/working-with-women-11-16-2011-142854
END:VEVENT

END:VCALENDAR
