BEGIN:VCALENDAR
VERSION:2.0
PRODID:-//ChamberMaster//Event Calendar 2.0//EN
METHOD:PUBLISH
X-PUBLISHED-TTL:P3D
REFRESH-INTERVAL:P3D
CALSCALE:GREGORIAN
BEGIN:VEVENT
DTSTART:20200115T151500Z
DTEND:20200115T164500Z
X-MICROSOFT-CDO-ALLDAYEVENT:FALSE
SUMMARY:Working With Women
DESCRIPTION:Topic/Speaker: Julie Jeppson  What's really going on\, Why I should care\, and How I can make change: a conversation answering the questions most are thinking when the economy is strong\, jobs are plentiful\, and most everyone in my circle is doing just fine.\n	Spotlights:\n	\n		Spotlight: Rebecca Thomas\, Business Sense\n		Philanthropic: Anoka County Historical Society\, Rebecca Ebnet-Desens\n		Spotlight: Lisa Jacobson\, Cambia Hills\n	\n	\n\nThe north metro's most dynamic women's networking group\, designed for busy professionals\, with over 50 women connecting each month to build business\, build relationships and strengthen the community.
X-ALT-DESC;FMTTYPE=text/html:<ul>\n	<li><span style="font-family:arial\,sans-serif\;"><span style="font-size:10.0pt\;"><strong>Topic/Speaker</strong>: Julie Jeppson&hellip\;</span></span> <span style="font-family:arial\,sans-serif\;"><span style="font-size:10.0pt\;">What&rsquo\;s really going on\, Why I should care\, and How I can make change: a conversation answering the questions most are thinking when the economy is strong\, jobs are plentiful\, and most everyone in my circle is doing just fine.</span></span></li>\n	<li><span style="font-family:arial\,sans-serif\;"><span style="font-size:10.0pt\;"><strong>Spotlights</strong>:</span></span>\n	<ul>\n		<li><strong><span style="font-family:arial\,sans-serif\;"><span style="font-size:10.0pt\;">Spotlight</span></span></strong><span style="font-family:arial\,sans-serif\;"><span style="font-size:10.0pt\;">: Rebecca Thomas\, Business Sense</span></span></li>\n		<li><strong><span style="font-family:arial\,sans-serif\;"><span style="font-size:10.0pt\;">Philanthropic:&nbsp\;</span></span></strong><span style="font-family:calibri\,sans-serif\;"><span style="font-size:10.0pt\;">Anoka County Historical Society\, Rebecca Ebnet-Desens</span></span></li>\n		<li><strong><span style="font-family:arial\,sans-serif\;"><span style="font-size:10.0pt\;">Spotlight</span></span></strong><span style="font-family:arial\,sans-serif\;"><span style="font-size:10.0pt\;">: Lisa Jacobson\, Cambia Hills</span></span></li>\n	</ul>\n	</li>\n</ul>\n<span style="font-size: 16px\;">The north metro&#39\;s most dynamic women&#39\;s networking group\, designed for busy professionals\, with over 50 women connecting each month to build business\, build relationships and strengthen the community.</span>
LOCATION:SMB Fire Station #3 11920 Ulysses Street Blaine 55434
UID:e.380.191657
SEQUENCE:3
DTSTAMP:20260419T124905Z
URL:http://members.metronorthchamber.org/events/details/working-with-women-01-22-2020-191657
END:VEVENT

END:VCALENDAR
