BEGIN:VCALENDAR
VERSION:2.0
PRODID:-//ChamberMaster//Event Calendar 2.0//EN
METHOD:PUBLISH
X-PUBLISHED-TTL:P3D
REFRESH-INTERVAL:P3D
CALSCALE:GREGORIAN
BEGIN:VEVENT
DTSTART:20190521T163000Z
DTEND:20190521T180000Z
X-MICROSOFT-CDO-ALLDAYEVENT:FALSE
SUMMARY:Women's Luncheon- Confetti Wealth
DESCRIPTION:Confetti Wealth invites you and your guests to join us for a Women's Luncheon!  During our financial topic\, you will hear more from Anne Kinsman on Empower\, Elevate and Achieve.\n\n\n\nDuring our featured presentation\, you will hear from Melissa Kug on the process to de-clutter your home usingthe KonMari method and the benefits you gain while doing so.\n\n\n\nSpace is limited for this event.  We hope you and your guest(s) can join us!
X-ALT-DESC;FMTTYPE=text/html:Confetti Wealth invites you and your guests to join us for a Women&#39\;s Luncheon!&nbsp\; During our financial topic\, you will hear more from Anne Kinsman on Empower\, Elevate and Achieve.<br />\n<br />\nDuring our featured presentation\, you will hear from Melissa Kug on the process to de-clutter your home usingthe KonMari method and the benefits you gain while doing so.<br />\n<br />\nSpace is limited for this event.&nbsp\; We hope you and your guest(s) can join us!
LOCATION:The Grand Hotel\, Minnapolis The Lake Calhoun Room 612 2nd Avenue South Minneapolis\, Mn 55402
UID:e.380.188969
SEQUENCE:3
DTSTAMP:20260420T022936Z
URL:http://members.metronorthchamber.org/events/details/women-s-luncheon-confetti-wealth-188969
END:VEVENT

END:VCALENDAR
