BEGIN:VCALENDAR
VERSION:2.0
PRODID:-//ChamberMaster//Event Calendar 2.0//EN
METHOD:PUBLISH
X-PUBLISHED-TTL:P3D
REFRESH-INTERVAL:P3D
CALSCALE:GREGORIAN
BEGIN:VEVENT
DTSTART:20131109T170000Z
DTEND:20131109T210000Z
X-MICROSOFT-CDO-ALLDAYEVENT:FALSE
SUMMARY:Women's Expo - Saturday\, November 9th (Blaine\, MN)
DESCRIPTION:While the Deer Hunters are out we will get a head start on Shopping for the Holidays :)\n\n\n\nFree Admission\n\n\n\n\n\n35+ Vendors/Businesses\n\n \n\nGuest Speakers\n\n\n\n*Free Raffle every 10 minutes. \n\n\n\n*Complete a passport by visiting multiple vendors and get a free gift! \n\n \n\n\n\nCome join us for an afternoon of fun :)\n\n\n\nMore information on our website: http://atouchofclassevents.weebly.com/\n\n\n\n\n\nSaturday\, November 9th from 11am to 3pm\n\nBrookhall\n\n(Next to Blainbrook bowling)\n\n12000 Central Avenue NE\n\nBlaine\, MN 55434\n\n* Must be 18+ of age to participate in Raffle and passport! And present to win!
X-ALT-DESC;FMTTYPE=text/html:<span style="font-family:times new roman\,serif\;"><span style="font-size:12.0pt\;">While the Deer Hunters are out we will get a head start on Shopping for the Holidays </span></span><span style="font-family:wingdings\;"><span style="font-size:12.0pt\;">:)</span></span><br />\n<br />\n<span style="font-family:times new roman\,serif\;"><span style="font-size:12.0pt\;">Free Admission</span></span><br />\n<br />\n<br />\n<span style="font-family:times new roman\,serif\;"><span style="font-size:12.0pt\;">35+ Vendors/Businesses</span></span><br />\n&nbsp\;<br />\n<span style="font-family:times new roman\,serif\;"><span style="font-size:12.0pt\;">Guest Speakers</span></span><br />\n<br />\n<span style="font-family:times new roman\,serif\;"><span style="font-size:12.0pt\;">*Free Raffle every 10 minutes. </span></span><br />\n<br />\n<span style="font-family:times new roman\,serif\;"><span style="font-size:12.0pt\;">*Complete a passport by visiting multiple vendors and get a free gift! </span></span><br />\n&nbsp\;<br />\n<br />\n<span style="font-family:times new roman\,serif\;"><span style="font-size:12.0pt\;">Come join us for an afternoon of fun :)<br />\n<br />\nMore information on our website: <a href="http://atouchofclassevents.weebly.com/"><span style="color:blue\;">http://atouchofclassevents.weebly.com/</span></a></span></span><br />\n<br />\n<br />\n<span style="font-family:times new roman\,serif\;"><span style="font-size:12.0pt\;">Saturday\, November 9<sup>th</sup> from 11am to 3pm</span></span><br />\n<span style="font-family:times new roman\,serif\;"><span style="font-size:12.0pt\;">Brookhall</span></span><br />\n<span style="font-family:times new roman\,serif\;"><span style="font-size:12.0pt\;">(Next to Blainbrook bowling)</span></span><br />\n<span style="font-family:times new roman\,serif\;"><span style="font-size:12.0pt\;">12000 Central Avenue NE</span></span><br />\n<span style="font-family:times new roman\,serif\;"><span style="font-size:12.0pt\;">Blaine\, MN 55434</span></span><br />\n<span style="font-family:times new roman\,serif\;"><span style="font-size:12.0pt\;">* Must be 18+ of age to participate in Raffle and passport! And present to win!</span></span><br />\n&nbsp\;
LOCATION:Brookhall 12000 Central Avenue NE Blaine\, MN 55434
UID:e.380.149842
SEQUENCE:3
DTSTAMP:20260424T125241Z
URL:http://members.metronorthchamber.org/events/details/women-s-expo-saturday-november-9th-blaine-mn-11-09-2013-149842
END:VEVENT

END:VCALENDAR
