BEGIN:VCALENDAR
VERSION:2.0
PRODID:-//ChamberMaster//Event Calendar 2.0//EN
METHOD:PUBLISH
X-PUBLISHED-TTL:P3D
REFRESH-INTERVAL:P3D
CALSCALE:GREGORIAN
BEGIN:VEVENT
DTSTART:20140329T150000Z
DTEND:20140329T200000Z
X-MICROSOFT-CDO-ALLDAYEVENT:FALSE
SUMMARY:Women's Expo - Saturday\, March 29th
DESCRIPTION:Women's Expo - Saturday\, March 29th\n\n \n\n10am to 3pm\n\nBrookhall\n\n(Next to Blainbrook bowling)\n\n11930 Central Avenue NE\n\nBlaine MN 55434\n\n\n\nFree Admission\n\n\n\n\n\nFirst 100 guests get a Swag bag\n\n \n\nFree Chair Massages\n\n \n\n40+ Vendors\n\n(Jewelry\, Chocolate\, Lotions\, Jeans\, Candles\, Make-up\, Purses\, Health & Fitness\, and much more!)\n\n \n\nFree Raffle every 15 minutes!\n\n(Must be 18+ and present to win)\n\n\n\nComplete a "Passport" by visiting multiple vendors and get a free gift! Must be 18+\n\n \n\n\n\nMore information and list of all vendors on our website: www.ATOCEventPlanning.com\n\n \n\nBe sure to "like us" on Facebook too:\n\nwww.Facebook.com/ATOCEventPlanning
X-ALT-DESC;FMTTYPE=text/html:<br />\n<span style="color:#0000FF\;"><strong><span style="font-size: 22px\;">Women&#39\;s Expo - Saturday\, March 29th</span></strong></span><br />\n&nbsp\;<br />\n<span style="font-size:16px\;">10am to 3pm<br />\nBrookhall<br />\n(Next to Blainbrook bowling)<br />\n11930 Central Avenue NE<br />\nBlaine MN 55434<br />\n<br />\n<strong><span style="color:#4B0082\;">Free Admission</span></strong></span><br />\n<br />\n<br />\n<span style="font-size:16px\;"><strong><span style="color: rgb(0\, 153\, 255)\;">First 100 guests get a Swag bag</span></strong></span><br />\n&nbsp\;<br />\nFree Chair Massages<br />\n&nbsp\;<br />\n<span style="color:#cc0099\;"><span style="font-size:16px\;"><strong>40+ Vendors</strong></span><br />\n(Jewelry\, Chocolate\, Lotions\, Jeans\, Candles\, Make-up\, Purses\, Health &amp\; Fitness\, and much more!)</span><br />\n&nbsp\;<br />\n<span style="font-size:16px\;"><strong><span style="color: rgb(51\, 204\, 0)\;">Free Raffle every 15 minutes!</span></strong></span><br />\n(Must be 18+ and present to win)<br />\n<br />\nComplete a &ldquo\;Passport&rdquo\; by visiting multiple vendors and get a free gift! Must be 18+<br />\n&nbsp\;<br />\n<br />\nMore information and list of all vendors on our website: <u><a href="http://www.ATOCEventPlanning.com"><span style="color:#0000FF\;">www.ATOCEventPlanning.com</span></a></u><br />\n&nbsp\;<br />\nBe sure to &ldquo\;like us&rdquo\; on Facebook too:<br />\n<u><a href="http://www.Facebook.com/ATOCEventPlanning"><span style="color:#0000FF\;">www.Facebook.com/ATOCEventPlanning</span></a></u>
LOCATION:Brookhall (Next to Blainbrook bowling) 11930 Central Avenue NE Blaine MN 55434
UID:e.380.150486
SEQUENCE:3
DTSTAMP:20260424T062500Z
URL:http://members.metronorthchamber.org/events/details/women-s-expo-saturday-march-29th-03-29-2014-150486
END:VEVENT

END:VCALENDAR
