BEGIN:VCALENDAR
VERSION:2.0
PRODID:-//ChamberMaster//Event Calendar 2.0//EN
METHOD:PUBLISH
X-PUBLISHED-TTL:P3D
REFRESH-INTERVAL:P3D
CALSCALE:GREGORIAN
BEGIN:VEVENT
DTSTART:20150425T150000Z
DTEND:20150425T200000Z
X-MICROSOFT-CDO-ALLDAYEVENT:FALSE
SUMMARY:Women's Expo - Saturday\, April 25th
DESCRIPTION:Women's Expo - Saturday\, April 25th \n\n \n\n10am to 3pm\n\nAt Banquets of MN\n\n(By Moore Lake)\n\n6310 Hwy 65 NE   Fridley\, MN 55432\n\n\n\nFREE Admission!!\n\n\n\n\n\nFirst 100 guest get at FREE tote swag bag full of great stuff!\n\n(Must be 18+)\n\n \n\nFREE Chair Massages\n\nFREE Henna Tattoos\n\nAnd Much More!\n\n \n\nFree Raffle every 15 minutes!\n\n(Must be 18+ and present to win)\n\n\n\nVisit 40 unique vendors/business\n\n(vendors with Jewelry\, Chocolate\, Lotions\, Candles\, Make-up\, Health & Fitness\, and much more!)\n\n \n\nComplete a "Passport" by visiting multiple vendors and get a free gift too! \n\n(Must be 18+)\n\n \n\nMore information and list of all vendors on our website: www.atoceventplanning.com\n\n \n\nBe sure to "like us" on Facebook too:\n\nwww.Facebook.com/ATOCEventPlanning\n\n \n\nReserve FREE Ticket:\n\nhttps://www.eventbrite.com/e/womens-expo-saturday-april-25th-tickets-16267731222
X-ALT-DESC;FMTTYPE=text/html:<strong><span style="color:blue"><span style="font-family:times new roman\,serif"><span style="font-size:28.0pt">Women&#39\;s Expo - Saturday\, April 25<sup>th</sup> </span></span></span></strong><br />\n&nbsp\;<br />\n<strong><span style="font-family:times new roman\,serif"><span style="font-size:16.0pt">10am to 3pm</span></span></strong><br />\n<strong><span style="font-family:times new roman\,serif"><span style="font-size:16.0pt">At Banquets of MN</span></span></strong><br />\n<strong><span style="font-family:times new roman\,serif"><span style="font-size:16.0pt">(By Moore Lake)</span></span></strong><br />\n<span style="color:rgb(34\, 34\, 34)\; font-family:arial\,sans-serif\; font-size:16px">6310 Hwy 65 NE &ndash\; Fridley\, MN 55432</span><br />\n<br />\n<strong><span style="color:#7030A0"><span style="font-family:times new roman\,serif"><span style="font-size:16.0pt">FREE Admission!!</span></span></span></strong><br />\n<br />\n<br />\n<strong><span style="color:#548DD4"><span style="font-family:times new roman\,serif"><span style="font-size:12.0pt">First 100 guest get at FREE tote swag bag full of great stuff!</span></span></span></strong><br />\n<strong><span style="color:#548DD4"><span style="font-family:times new roman\,serif"><span style="font-size:12.0pt">(Must be 18+)</span></span></span></strong><br />\n&nbsp\;<br />\n<span style="font-family:times new roman\,serif"><span style="font-size:12.0pt">FREE Chair Massages</span></span><br />\n<span style="font-family:times new roman\,serif"><span style="font-size:12.0pt">FREE Henna Tattoos</span></span><br />\n<span style="font-family:times new roman\,serif"><span style="font-size:12.0pt">And Much More!</span></span><br />\n&nbsp\;<br />\n<strong><span style="color:#92D050"><span style="font-family:times new roman\,serif"><span style="font-size:16.0pt">Free Raffle every 15 minutes!</span></span></span></strong><br />\n<span style="font-family:times new roman\,serif"><span style="font-size:16.0pt">(</span></span><span style="font-family:times new roman\,serif"><span style="font-size:12.0pt">Must be 18+ and present to win)</span></span><br />\n<br />\n<strong><span style="color:#C20EA0"><span style="font-family:times new roman\,serif"><span style="font-size:14.0pt">Visit 40 unique vendors/business</span></span></span></strong><br />\n<strong><span style="color:#C20EA0"><span style="font-family:times new roman\,serif"><span style="font-size:12.0pt">(vendors with Jewelry\, Chocolate\, Lotions\, Candles\, Make-up\, Health &amp\; Fitness\, and much more!)</span></span></span></strong><br />\n&nbsp\;<br />\n<span style="font-family:times new roman\,serif"><span style="font-size:12.0pt">Complete a &ldquo\;Passport&rdquo\; by visiting multiple vendors and get a free gift too! </span></span><br />\n<span style="font-family:times new roman\,serif"><span style="font-size:12.0pt">(Must be 18+)</span></span><br />\n&nbsp\;<br />\n<strong><span style="font-family:times new roman\,serif"><span style="font-size:18.0pt">More information and list of all vendors on our website: </span></span></strong><a href="http://www.atoceventplanning.com/"><strong><span style="font-family:times new roman\,serif"><span style="font-size:18.0pt">www.atoceventplanning.com</span></span></strong></a><br />\n&nbsp\;<br />\n<strong><span style="font-family:times new roman\,serif"><span style="font-size:18.0pt">Be sure to &ldquo\;like us&rdquo\; on Facebook too:</span></span></strong><br />\n<a href="http://www.facebook.com/ATOCEventPlanning"><strong><span style="font-family:times new roman\,serif"><span style="font-size:18.0pt">www.Facebook.com/ATOCEventPlanning</span></span></strong></a><br />\n&nbsp\;<br />\n<strong><span style="font-family:times new roman\,serif"><span style="font-size:12.0pt">Reserve FREE Ticket:</span></span></strong><br />\n<strong><span style="font-family:times new roman\,serif"><span style="font-size:12.0pt"><a href="https://www.eventbrite.com/e/womens-expo-saturday-april-25th-tickets-16267731222">https://www.eventbrite.com/e/womens-expo-saturday-april-25th-tickets-16267731222</a></span></span></strong><br />\n&nbsp\;
LOCATION:Banquets of MN 6310 Hwy 65 NE Fridley\, MN 55432
UID:e.380.157252
SEQUENCE:3
DTSTAMP:20260423T100412Z
URL:http://members.metronorthchamber.org/events/details/women-s-expo-saturday-april-25th-04-25-2015-157252
END:VEVENT

END:VCALENDAR
