BEGIN:VCALENDAR
VERSION:2.0
PRODID:-//ChamberMaster//Event Calendar 2.0//EN
METHOD:PUBLISH
X-PUBLISHED-TTL:P3D
REFRESH-INTERVAL:P3D
CALSCALE:GREGORIAN
BEGIN:VEVENT
DTSTART:20141108T160000Z
DTEND:20141108T210000Z
X-MICROSOFT-CDO-ALLDAYEVENT:FALSE
SUMMARY:WOMEN'S EXPO - Sat\, Nov 8th
DESCRIPTION:Women's Expo - Saturday\, November 8th\n\n \n\n10am to 3pm\n\nBrookhall\n\n(Next to Blainbrook bowling)\n\n11930 Central Avenue NE\n\nBlaine MN 55434\n\n\n\nFREE Admission!!\n\n\n\n\n\nFirst 125 guest get at Swag bag (18+)\n\n \n\nFree Chair Massages\n\n \n\n40+ Vendors\n\n(Jewelry\, Chocolate\, Lotions\, Jeans\, Candles\, Make-up\, Purses\, Health & Fitness\, and much more!)\n\n \n\nFree Raffle every 15 minutes!\n\n(Must be 18+ and present to win)\n\n\n\nComplete a "Passport" by visiting multiple vendors and get a free gift! Must be 18+\n\n \n\n\n\nMore information and list of all vendors on our website: www.ATOCEventPlanning.com\n\n \n\nBe sure to "like us" on Facebook too:\n\nwww.Facebook.com/ATOCEventPlanning
X-ALT-DESC;FMTTYPE=text/html:<strong><span style="color: blue\;"><span style="font-family: times new roman\,serif\;"><span style="font-size: 28pt\;">Women&#39\;s Expo - Saturday\, November 8<sup>th</sup></span></span></span></strong><br />\n&nbsp\;<br />\n<strong><span style="font-family: times new roman\,serif\;"><span style="font-size: 16pt\;">10am to 3pm</span></span></strong><br />\n<strong><span style="font-family: times new roman\,serif\;"><span style="font-size: 16pt\;">Brookhall</span></span></strong><br />\n<strong><span style="font-family: times new roman\,serif\;"><span style="font-size: 16pt\;">(Next to Blainbrook bowling)</span></span></strong><br />\n<strong><span style="font-size: 14pt\;">11930 Central Avenue NE<br />\nBlaine MN 55434</span></strong><br />\n<br />\n<strong><span style="color: rgb(112\, 48\, 160)\;"><span style="font-family: times new roman\,serif\;"><span style="font-size: 16pt\;">FREE Admission!!</span></span></span></strong><br />\n<br />\n<br />\n<strong><span style="color: rgb(84\, 141\, 212)\;"><span style="font-family: times new roman\,serif\;"><span style="font-size: 12pt\;">First 125 guest get at Swag bag (18+)</span></span></span></strong><br />\n&nbsp\;<br />\n<span style="font-family: times new roman\,serif\;"><span style="font-size: 12pt\;">Free Chair Massages</span></span><br />\n&nbsp\;<br />\n<strong><span style="color: rgb(194\, 14\, 160)\;"><span style="font-family: times new roman\,serif\;"><span style="font-size: 14pt\;">40+ Vendors</span></span></span></strong><br />\n<strong><span style="color: rgb(194\, 14\, 160)\;"><span style="font-family: times new roman\,serif\;"><span style="font-size: 12pt\;">(Jewelry\, Chocolate\, Lotions\, Jeans\, Candles\, Make-up\, Purses\, Health &amp\; Fitness\, and much more!)</span></span></span></strong><br />\n&nbsp\;<br />\n<strong><span style="color: rgb(146\, 208\, 80)\;"><span style="font-family: times new roman\,serif\;"><span style="font-size: 16pt\;">Free Raffle every 15 minutes!</span></span></span></strong><br />\n<span style="font-family: times new roman\,serif\;"><span style="font-size: 16pt\;">(</span></span><span style="font-family: times new roman\,serif\;"><span style="font-size: 12pt\;">Must be 18+ and present to win)</span></span><br />\n<br />\n<span style="font-family: times new roman\,serif\;"><span style="font-size: 12pt\;">Complete a &ldquo\;Passport&rdquo\; by visiting multiple vendors and get a free gift! Must be 18+</span></span><br />\n&nbsp\;<br />\n<br />\n<strong><span style="font-family: times new roman\,serif\;"><span style="font-size: 18pt\;">More information and list of all vendors on our website: </span></span></strong><a href="http://www.atoceventplanning.com/"><strong><span style="font-family: times new roman\,serif\;"><span style="font-size: 18pt\;">www.ATOCEventPlanning.com</span></span></strong></a><br />\n&nbsp\;<br />\n<strong><span style="font-family: times new roman\,serif\;"><span style="font-size: 18pt\;">Be sure to &ldquo\;like us&rdquo\; on Facebook too:</span></span></strong><br />\n<a href="http://www.facebook.com/ATOCEventPlanning"><strong><span style="font-family: times new roman\,serif\;"><span style="font-size: 18pt\;">www.Facebook.com/ATOCEventPlanning</span></span></strong></a><br />\n&nbsp\;
LOCATION:Brookhall 11930 Central Avenue NE Blaine MN 55434
UID:e.380.151683
SEQUENCE:3
DTSTAMP:20260423T192424Z
URL:http://members.metronorthchamber.org/events/details/women-s-expo-sat-nov-8th-11-08-2014-151683
END:VEVENT

END:VCALENDAR
