BEGIN:VCALENDAR
VERSION:2.0
PRODID:-//ChamberMaster//Event Calendar 2.0//EN
METHOD:PUBLISH
X-PUBLISHED-TTL:P3D
REFRESH-INTERVAL:P3D
CALSCALE:GREGORIAN
BEGIN:VEVENT
DTSTART:20130505T160000Z
DTEND:20130505T200000Z
X-MICROSOFT-CDO-ALLDAYEVENT:FALSE
SUMMARY:Women's Expo Event
DESCRIPTION:Come join us for the A Touch of Class Women's Expo Event. This is the second event we have hosted and hope for a great turn out.\n\n\n\nFREE Admission!!
X-ALT-DESC;FMTTYPE=text/html:Come join us for the A Touch of Class Women&#39\;s Expo Event. This is the second event we have hosted and hope for a great turn out.<br />\n<br />\nFREE Admission!!<br />\n<br />\n
LOCATION:Roosevelt Middle School Gym 125th Avenue NE Blaine\, MN 55434
UID:e.380.148725
SEQUENCE:3
DTSTAMP:20260425T002346Z
URL:http://members.metronorthchamber.org/events/details/women-s-expo-event-05-05-2013-148725
END:VEVENT

END:VCALENDAR
