BEGIN:VCALENDAR
VERSION:2.0
PRODID:-//ChamberMaster//Event Calendar 2.0//EN
METHOD:PUBLISH
X-PUBLISHED-TTL:P3D
REFRESH-INTERVAL:P3D
CALSCALE:GREGORIAN
BEGIN:VEVENT
DTSTART:20160501T160000Z
DTEND:20160501T210000Z
X-MICROSOFT-CDO-ALLDAYEVENT:FALSE
SUMMARY:Women's Expo!
DESCRIPTION:5th Annual Spring Women's Expo!\n\nSunday\, May 1st \n\n \n\n11am to 4pm\n\nBrookhall\n\n(Next to Blainbrook bowling)\n\n11930 Central Avenue NE\n\nBlaine MN 55434\n\n\n\nFREE Admission\n\n\n\n\n\nFREE Swag bag for first 100 Guest (18+)\n\n \n\nFree Raffle every 30 minutes!\n\n(18+ and present to win)\n\n\n\nNEW - FREE Gift with proof of purchase from any vendor! (Limit 1 gift per guest)\n\n \n\n \n\n40+ Vendors   FREE Chair Massage!\n\n(Jewelry\, Food\, Stuff for your Kitchen\, Skin Care/Make-Up/Lotion\, Fashion\, Candles\, Organizer/Bags/Purses\, Fitness\, and much more!)\n\n \n\n\n\nMore information and list of all vendors on our website: www.ATOCEventPlanning.com\n\n \n\nBe sure to "like us" on Facebook too:\n\nwww.Facebook.com/ATOCEventPlanning
X-ALT-DESC;FMTTYPE=text/html:<strong><span style="color:blue"><span style="font-family:times new roman\,serif"><span style="font-size:28.0pt">5<sup>th</sup> Annual Spring Women&#39\;s Expo!</span></span></span></strong><br />\n<strong><span style="color:blue"><span style="font-family:times new roman\,serif"><span style="font-size:28.0pt">Sunday\, May 1<sup>st</sup> </span></span></span></strong><br />\n&nbsp\;<br />\n<strong><span style="font-family:times new roman\,serif"><span style="font-size:16.0pt">11am to 4pm</span></span></strong><br />\n<strong><span style="font-family:times new roman\,serif"><span style="font-size:16.0pt">Brookhall</span></span></strong><br />\n<strong><span style="font-family:times new roman\,serif"><span style="font-size:16.0pt">(Next to Blainbrook bowling)</span></span></strong><br />\n<strong><span style="font-size:14.0pt"><span style="font-family:calibri">11930 Central Avenue NE<br />\nBlaine MN 55434</span></span></strong><br />\n<br />\n<strong><span style="color:#7030A0"><span style="font-family:times new roman\,serif"><span style="font-size:16.0pt">FREE Admission</span></span></span></strong><br />\n<br />\n<br />\n<strong><span style="color:#548DD4"><span style="font-family:times new roman\,serif"><span style="font-size:16.0pt">FREE Swag bag for first 100 Guest </span></span></span></strong><strong><span style="color:#548DD4"><span style="font-family:times new roman\,serif"><span style="font-size:12.0pt">(18+)</span></span></span></strong><br />\n&nbsp\;<br />\n<strong><span style="color:#92D050"><span style="font-family:times new roman\,serif"><span style="font-size:16.0pt">Free Raffle every 30 minutes!</span></span></span></strong><br />\n<strong><span style="color:#92D050"><span style="font-family:times new roman\,serif"><span style="font-size:12.0pt">(18+ and present to win)</span></span></span></strong><br />\n<br />\n<span style="font-family:\n"><span style="font-size:16.0pt"><strong><span style="color:#E36C0A">NEW</span></strong></span><span style="color:#E36C0A"> - FREE Gift with proof of purchase from any vendor! </span></span><span style="color:#E36C0A"><span style="font-family:times new roman\,serif"><span style="font-size:12.0pt">(Limit 1 gift per guest)</span></span></span><br />\n&nbsp\;<br />\n&nbsp\;<br />\n<strong><span style="color:#C20EA0"><span style="font-family:times new roman\,serif"><span style="font-size:14.0pt">40+ Vendors &ndash\; FREE Chair Massage!</span></span></span></strong><br />\n<strong><span style="color:#C20EA0"><span style="font-family:times new roman\,serif"><span style="font-size:12.0pt">(Jewelry\, Food\, Stuff for your Kitchen\, Skin Care/Make-Up/Lotion\, Fashion\, Candles\, Organizer/Bags/Purses\, Fitness\, and much more!)</span></span></span></strong><br />\n&nbsp\;<br />\n<br />\n<strong><span style="font-family:times new roman\,serif"><span style="font-size:18.0pt">More information and list of all vendors on our website: </span></span></strong><a href="http://www.atoceventplanning.com/"><strong><span style="font-family:times new roman\,serif"><span style="font-size:18.0pt"><span style="color:#0000ff">www.ATOCEventPlanning.com</span></span></span></strong></a><br />\n&nbsp\;<br />\n<strong><span style="font-family:times new roman\,serif"><span style="font-size:18.0pt">Be sure to &ldquo\;like us&rdquo\; on Facebook too:</span></span></strong><br />\n<a href="http://www.facebook.com/ATOCEventPlanning"><strong><span style="font-family:\n"><span style="font-size:18.0pt"><span style="color:#0000ff">www.Facebook.com/ATOCEventPlanning</span></span></span></strong></a>
LOCATION:Brookhall
UID:e.380.167388
SEQUENCE:3
DTSTAMP:20260422T120715Z
URL:http://members.metronorthchamber.org/events/details/women-s-expo-05-01-2016-167388
END:VEVENT

END:VCALENDAR
