BEGIN:VCALENDAR
VERSION:2.0
PRODID:-//ChamberMaster//Event Calendar 2.0//EN
METHOD:PUBLISH
X-PUBLISHED-TTL:P3D
REFRESH-INTERVAL:P3D
CALSCALE:GREGORIAN
BEGIN:VEVENT
DTSTART:20120510T230000Z
DTEND:20120511T003000Z
X-MICROSOFT-CDO-ALLDAYEVENT:FALSE
SUMMARY:Women in Business Seminar Hosted By: Community Pride Bank
DESCRIPTION:Community Pride Bank is hosting a Women in Business Seminar titled\, "Protecting Yourself and Your Finances".  Presented by: Lynne T. Bankes\, Police Chief of White Bear Lake and Community Pride Bank.\n\n\n\nInvite your friends and join us for our complimentary seminar!\n\nHors d'oeuvres and wine will be served\n\n\n\nLIMITED SPACE AVAILABLE\n\nPlease RSVP by Friday\, May 4\, 2012\n\nContact Jenna Smith at (763) 862-6500 or jsmith@cpride.com
X-ALT-DESC;FMTTYPE=text/html:<strong>Community Pride Bank is hosting a Women in Business Seminar titled\, &quot\;Protecting Yourself and Your Finances&quot\;.&nbsp\;</strong> Presented by: Lynne T. Bankes\, Police Chief of White Bear Lake and Community Pride Bank.<br />\n<br />\n<strong>Invite your friends and join us for our complimentary seminar!</strong><br />\nHors d&#39\;oeuvres and wine will be served<br />\n<br />\n<strong>LIMITED SPACE AVAILABLE</strong><br />\nPlease RSVP by Friday\, May 4\, 2012<br />\nContact Jenna Smith at (763) 862-6500 or jsmith@cpride.com<br />\n<br />\n
LOCATION:TPC Twin Cities in Blaine 11444 Tournament Players Parkway Blaine\, Minnesota 55449
UID:e.380.143805
SEQUENCE:3
DTSTAMP:20260425T181419Z
URL:http://members.metronorthchamber.org/events/details/women-in-business-seminar-hosted-by-community-pride-bank-05-10-2012-143805
END:VEVENT

END:VCALENDAR
