BEGIN:VCALENDAR
VERSION:2.0
PRODID:-//ChamberMaster//Event Calendar 2.0//EN
METHOD:PUBLISH
X-PUBLISHED-TTL:P3D
REFRESH-INTERVAL:P3D
CALSCALE:GREGORIAN
BEGIN:VEVENT
DTSTART:20170512T190000Z
DTEND:20170513T045500Z
X-MICROSOFT-CDO-ALLDAYEVENT:FALSE
SUMMARY:Witty Blonde Dry-Hopped White Ale Release Party
DESCRIPTION:First Pour at 2:30\n\n\n\nDry-hopped with amiarillo\, bursting with notes of tangerine\, apricot\, white peach\, red grapefruit\, spice\, and luscious rising bread. A silky\, soothing\, and satingvelvet-gloved brain massage.\n\nABV:5.1% IBU:20\n\n\n\n*Sneak peak growlers for sale & cans available in stores on May 10th
X-ALT-DESC;FMTTYPE=text/html:First Pour at 2:30<br />\n<br />\nDry-hopped with amiarillo\, bursting with notes of tangerine\, apricot\, white peach\, red grapefruit\, spice\, and luscious rising bread. A silky\, soothing\, and satingvelvet-gloved brain massage.<br />\nABV:5.1% IBU:20<br />\n<br />\n*Sneak peak growlers for sale &amp\; cans available in stores on May 10th<br />\n<br />\n&nbsp\;
LOCATION:Bent Brewstillery Taproom 1744 Terrace Drive Roseville\, MN 55113
UID:e.380.175030
SEQUENCE:3
DTSTAMP:20260421T152922Z
URL:http://members.metronorthchamber.org/events/details/witty-blonde-dry-hopped-white-ale-release-party-175030
END:VEVENT

END:VCALENDAR
