BEGIN:VCALENDAR
VERSION:2.0
PRODID:-//ChamberMaster//Event Calendar 2.0//EN
METHOD:PUBLISH
X-PUBLISHED-TTL:P3D
REFRESH-INTERVAL:P3D
CALSCALE:GREGORIAN
BEGIN:VEVENT
DTSTART:20120225T233000Z
DTEND:20120226T030000Z
X-MICROSOFT-CDO-ALLDAYEVENT:FALSE
SUMMARY:Wishes & More Winter Ball
DESCRIPTION:Wishes & More is a Minnesota-based wish granting organization that provides extraordinary experiences for children with terminal or life-threatening conditions. The Wishes & More Ball is our primary fundraising event\, and we would like you to be a part of it! Here are some of the ways we could use your help this year:\n\n	\n\n	Make the night extraordinary!\n\n	  Be a sponsor*\n\n	  Attend the ball\; Tickets $150 or VIP tickets for $200\n\n	(Visit the Wishes & More website for more info.)\n\n	  Make a monetary gift\n\n	  Donate auction items*\n\n	  Donate gift bag items*\n\n	  Purchase ad space*\n\n	*Download the Sponsorship & Promotional Opportunities Brochure for more details.\n\n	\n\n	Evening Entertainment:\n\n	Co-Host - Karla Blomberg - President\, Wishes & More\n\n	Co-Host - Tom Reid - MN Wild Broadcaster & Owner of Tom Reid's Hockey City Pub\n\n	Auctioneer - John Hines - WCCO Radio Personality\n\n	Cocktail Music - Denny Malmberg Ensemble featuring Charmin Michelle\n\n	Dance Music - Moxie Blue
X-ALT-DESC;FMTTYPE=text/html:<p>\n	<span style="font-size:10px\;"><span style="font-family: tahoma\;">Wishes &amp\; More is a Minnesota-based wish granting organization that provides extraordinary experiences for children with terminal or life-threatening conditions. The Wishes &amp\; More Ball is our primary fundraising event\, and we would like you to be a part of it! Here are some of the ways we could use your help this year:</span></span><br />\n	<br />\n	<span style="font-size:10px\;">Make the night extraordinary!<br />\n	&bull\; Be a sponsor*<br />\n	&bull\; Attend the ball\; Tickets $150 or VIP tickets for $200<br />\n	(Visit the Wishes &amp\; More <a href="http://www.wishesandmore.org/Category/2012-Winter-Ball---A-Night-On-The-Red-Carpet.cfm">website</a> for more info.)<br />\n	&bull\; Make a monetary gift<br />\n	&bull\; Donate auction items*<br />\n	&bull\; Donate gift bag items*<br />\n	&bull\; Purchase ad space*</span><br />\n	<span style="font-size: 10px\;">*</span><span style="color:#0000ff\;"><span style="font-size: 10px\;"><span style="font-family: tahoma\;"><span class="CatDesc"><a href="http://www.wishesandmore.org/imageupload/file/2012_Sponsorship_Brochure.pdf">Download the Sponsorship &amp\; Promotional Opportunities Brochure for more details.</a></span></span></span></span><br />\n	<br />\n	<span style="font-size: 10px\;"><span style="font-family: tahoma\;"><span class="CatDesc">Evening Entertainment:<br />\n	Co-Host - Karla Blomberg - President\, Wishes &amp\; More<br />\n	Co-Host - Tom Reid - MN Wild Broadcaster &amp\; Owner of Tom Reid&#39\;s Hockey City Pub<br />\n	Auctioneer - John Hines - WCCO Radio Personality<br />\n	Cocktail Music - Denny Malmberg Ensemble featuring Charmin Michelle<br />\n	Dance Music - Moxie Blue</span></span></span></p>\n
LOCATION:Minneapolis Marriott City Center
UID:e.380.143315
SEQUENCE:3
DTSTAMP:20260425T225601Z
URL:http://members.metronorthchamber.org/events/details/wishes-more-winter-ball-02-25-2012-143315
END:VEVENT

END:VCALENDAR
