BEGIN:VCALENDAR
VERSION:2.0
PRODID:-//ChamberMaster//Event Calendar 2.0//EN
METHOD:PUBLISH
X-PUBLISHED-TTL:P3D
REFRESH-INTERVAL:P3D
CALSCALE:GREGORIAN
BEGIN:VEVENT
DTSTART:20141120T223000Z
DTEND:20141121T010000Z
X-MICROSOFT-CDO-ALLDAYEVENT:FALSE
SUMMARY:Winter Sports Showcase Open House
DESCRIPTION:Come see the latest and greatest in recognition and promotional items for hockey\, basketball and wrestling! We will have awards on display and recognition specialists on hand. Food and refreshments are provided and all attendees receive a free gift bag and a 20% off coupon.
X-ALT-DESC;FMTTYPE=text/html:Come see the latest and greatest in recognition and promotional items for hockey\, basketball and wrestling! We will have awards on display and recognition specialists on hand. Food and refreshments are provided and all attendees receive a free gift bag and a 20% off coupon.
LOCATION:Viking Trophies Showroom 6248 Lakeland Ave N Ste 102 Brooklyn Park\, MN 55428
UID:e.380.151709
SEQUENCE:3
DTSTAMP:20260423T174232Z
URL:http://members.metronorthchamber.org/events/details/winter-sports-showcase-open-house-11-20-2014-151709
END:VEVENT

END:VCALENDAR
