BEGIN:VCALENDAR
VERSION:2.0
PRODID:-//ChamberMaster//Event Calendar 2.0//EN
METHOD:PUBLISH
X-PUBLISHED-TTL:P3D
REFRESH-INTERVAL:P3D
CALSCALE:GREGORIAN
BEGIN:VEVENT
DTSTART:20190112T180000Z
DTEND:20190113T060000Z
X-MICROSOFT-CDO-ALLDAYEVENT:FALSE
SUMMARY:Winter Luau in Roseville
DESCRIPTION:Winter Luau & Tiki Party\n\nTiki Cocktails ALL DAY
X-ALT-DESC;FMTTYPE=text/html:Winter Luau &amp\; Tiki Party<br>\nTiki Cocktails ALL DAY
LOCATION:Bent Brewstillery 1744 Terrace Drive Roseville\, MN
UID:e.380.187875
SEQUENCE:3
DTSTAMP:20260420T091444Z
URL:http://members.metronorthchamber.org/events/details/winter-luau-in-roseville-187875
END:VEVENT

END:VCALENDAR
