BEGIN:VCALENDAR
VERSION:2.0
PRODID:-//ChamberMaster//Event Calendar 2.0//EN
METHOD:PUBLISH
X-PUBLISHED-TTL:P3D
REFRESH-INTERVAL:P3D
CALSCALE:GREGORIAN
BEGIN:VEVENT
DTSTART:20151208T010000Z
DTEND:20151208T013000Z
X-MICROSOFT-CDO-ALLDAYEVENT:FALSE
SUMMARY:Winter League Meeting
DESCRIPTION:Join our winter leagues at Metro Gun Club. For you outdoor enthusiasts\, winter is a great time to continue to advance your skills in shotgun. We offer 3 separate leagues for you to enjoy: Combo (which test your skills in sporting clays\, Duck Tower and other events)\, Trap and our new buddy leagues. (Grab a friend and create a team. It's that easy). \n\n\n\nYou do not need to be present for the meeting to join the league\, however\, rules are laid out and any concerns are addressed at this meeting. Brush up your skills when the weather is against you. \n\n\n\n\n\n                                            BRRRRRRRRRRRRRRRING IT!!!!
X-ALT-DESC;FMTTYPE=text/html:<span style="font-family:arial\,sans-serif"><span style="font-size:10pt">Join our winter leagues at Metro Gun Club. For you outdoor enthusiasts\, winter is a great time to continue to advance your skills in shotgun. We offer 3 separate leagues for you to enjoy: Combo (which test your skills in sporting clays\, Duck Tower and other events)\, Trap and our new buddy leagues. (Grab a friend and create a team. It&#39\;s that easy).&nbsp\;</span></span><br />\n<br />\n<span style="font-family:arial\,sans-serif"><span style="font-size:10pt">You do not need to be present for the meeting to join the league\, however\, rules are laid out and any concerns are addressed at this meeting. Brush up your skills when the weather is against you.&nbsp\;</span></span><br />\n<br />\n<br />\n&nbsp\;&nbsp\; &nbsp\; &nbsp\; &nbsp\; &nbsp\; &nbsp\; &nbsp\; &nbsp\; &nbsp\; &nbsp\; &nbsp\; &nbsp\; &nbsp\; &nbsp\; &nbsp\; &nbsp\; &nbsp\; &nbsp\; &nbsp\; &nbsp\; &nbsp\; &nbsp\;BRRRRRRRRRRRRRRRING IT!!!!
LOCATION:Metro Gun Club
UID:e.380.159863
SEQUENCE:3
DTSTAMP:20260422T221907Z
URL:http://members.metronorthchamber.org/events/details/winter-league-meeting-12-07-2015-159863
END:VEVENT

END:VCALENDAR
