BEGIN:VCALENDAR
VERSION:2.0
PRODID:-//ChamberMaster//Event Calendar 2.0//EN
METHOD:PUBLISH
X-PUBLISHED-TTL:P3D
REFRESH-INTERVAL:P3D
CALSCALE:GREGORIAN
BEGIN:VEVENT
DTSTART:20111206T003000Z
DTEND:20111206T020000Z
X-MICROSOFT-CDO-ALLDAYEVENT:FALSE
SUMMARY:Winter Holiday Celebration
DESCRIPTION:
X-ALT-DESC;FMTTYPE=text/html:
LOCATION:
UID:e.380.142859
SEQUENCE:3
DTSTAMP:20260426T015629Z
URL:http://members.metronorthchamber.org/events/details/winter-holiday-celebration-12-05-2011-142859
END:VEVENT

END:VCALENDAR
