BEGIN:VCALENDAR
VERSION:2.0
PRODID:-//ChamberMaster//Event Calendar 2.0//EN
METHOD:PUBLISH
X-PUBLISHED-TTL:P3D
REFRESH-INTERVAL:P3D
CALSCALE:GREGORIAN
BEGIN:VEVENT
DTSTART:20141216T180000Z
DTEND:20141216T183000Z
X-MICROSOFT-CDO-ALLDAYEVENT:FALSE
SUMMARY:Wings Financial Ribbon Cutting
DESCRIPTION:Join MetroNorth Chamber as we celebrate Wings Financial grand opening!
X-ALT-DESC;FMTTYPE=text/html:Join MetroNorth Chamber as we celebrate Wings Financial grand opening!
LOCATION:10400 Baltimore Street NE\, Suite 140 Blaine\, MN 55434 952.997.8202
UID:e.380.152122
SEQUENCE:3
DTSTAMP:20260423T163111Z
URL:http://members.metronorthchamber.org/events/details/wings-financial-ribbon-cutting-12-16-2014-152122
END:VEVENT

END:VCALENDAR
