BEGIN:VCALENDAR
VERSION:2.0
PRODID:-//ChamberMaster//Event Calendar 2.0//EN
METHOD:PUBLISH
X-PUBLISHED-TTL:P3D
REFRESH-INTERVAL:P3D
CALSCALE:GREGORIAN
BEGIN:VEVENT
DTSTART:20120306T224500Z
DTEND:20120307T010000Z
X-MICROSOFT-CDO-ALLDAYEVENT:FALSE
SUMMARY:Wine Tasting - Olive Garden 2012
DESCRIPTION:Mark your calendars for the MetroNorth Chamber's GRAPEVINE WINE NETWORKING CLUB Italian Wine tasting at Olive Garden! We will taste Italian wines\, sample some of the Olive Garden's cuisine\, and network with Chamber members while a sommelier (wine steward) teaches us about wine.\n\n	\n\n	There are only 25 spots available so RSVP today!---  SOLD OUT ---\n\n	DRINK WINE\, HAVE FUN\, MEET PEOPLE
X-ALT-DESC;FMTTYPE=text/html:<p>\n	<span style="color: rgb(0\,0\,128)"><span style="font-size: 11px"><span style="font-family: tahoma">Mark your calendars for the MetroNorth Chamber&#39\;s GRAPEVINE WINE NETWORKING CLUB Italian Wine tasting at Olive Garden! </span></span></span><span style="color: rgb(0\,0\,128)"><span style="font-size: 11px"><span style="font-family: tahoma">We will taste Italian wines\, sample some of the Olive Garden&rsquo\;s cuisine\, and network with Chamber members while a sommelier (wine steward) teaches us about wine.</span></span></span><br />\n	<br />\n	<span style="color: rgb(0\,0\,128)"><span style="font-size: 11px"><span style="font-family: tahoma">There are only 25 spots available so RSVP today!--- &nbsp\;SOLD OUT ---</span></span></span></p>\n<p>\n	<span style="font-size: 11px"><span style="color: rgb(0\,0\,128)"><span style="font-family: tahoma"><strong>DRINK WINE\, HAVE FUN\, MEET PEOPLE</strong></span></span></span></p>\n
LOCATION:Olive Garden 150 Coon Rapids Blvd Coon Rapids\, MN 55433
UID:e.380.143029
SEQUENCE:3
DTSTAMP:20260425T210739Z
URL:http://members.metronorthchamber.org/events/details/wine-tasting-olive-garden-2012-03-06-2012-143029
END:VEVENT

END:VCALENDAR
