BEGIN:VCALENDAR
VERSION:2.0
PRODID:-//ChamberMaster//Event Calendar 2.0//EN
METHOD:PUBLISH
X-PUBLISHED-TTL:P3D
REFRESH-INTERVAL:P3D
CALSCALE:GREGORIAN
BEGIN:VEVENT
DTSTART:20130309T200000Z
DTEND:20130309T230000Z
X-MICROSOFT-CDO-ALLDAYEVENT:FALSE
SUMMARY:Wine Tasting
DESCRIPTION:Sample 15+ different Wines\;\n\nPoured by professionals from the Wine industry\n\nNo cost\, but huge savings on the day of the event.
X-ALT-DESC;FMTTYPE=text/html:<span style="font-size: 22px\;"><span style="font-family: courier new\;"><strong>Sample 15+ different <span style="color: rgb(255\, 0\, 0)\;"><em>Wines</em></span>\;<br />\nPoured by professionals from the <span style="color: rgb(255\, 0\, 0)\;"><em>Wine</em></span> industry<br />\nNo cost\, but huge savings on the day of the event</strong></span></span>.
LOCATION:Central Spirits Liquor Store 1438 93rd Lane and Hwy. 65 Blaine\, MN 55449 Next to Ole Piper Inn (currently under construction)
UID:e.380.148621
SEQUENCE:3
DTSTAMP:20260425T015646Z
URL:http://members.metronorthchamber.org/events/details/wine-tasting-03-09-2013-148621
END:VEVENT

END:VCALENDAR
