BEGIN:VCALENDAR
VERSION:2.0
PRODID:-//ChamberMaster//Event Calendar 2.0//EN
METHOD:PUBLISH
X-PUBLISHED-TTL:P3D
REFRESH-INTERVAL:P3D
CALSCALE:GREGORIAN
BEGIN:VEVENT
DTSTART:20120113T010000Z
DTEND:20120113T030000Z
X-MICROSOFT-CDO-ALLDAYEVENT:FALSE
SUMMARY:WIne Event -Around the World with Ste. Michelle Estates
DESCRIPTION:Randy Dobratz \n\npresents\n\nAround the World with \n\nSte. Michelle Estates\n\n \n\nChile\n\n Haras Sauvignon Blanc\n\n \n\nNew  Zealand\n\nVilla Maria Riesling\n\n \n\nItaly\n\nSanta Cristina Sangiovese\n\nVilla Antinori Toscana\n\n \n\nCalifornia\n\nConn Creek Cabernet\n\n \n\nOregon\n\nErath Pinot Noir\n\n \n\nWashington\n\nColumbia Crest H3 Cabernet\n\nGrand Estates Amitage\n\n14 Hands Chardonnay
X-ALT-DESC;FMTTYPE=text/html:<strong><span style="font-family: arial\,sans-serif"><span style="font-size: 10pt">Randy Dobratz </span></span></strong><br />\n<strong><span style="font-family: arial\,sans-serif"><span style="font-size: 10pt">presents</span></span></strong><br />\n<strong><span style="font-family: arial\,sans-serif"><span style="font-size: 14pt">Around the World with </span></span></strong><br />\n<strong><span style="font-family: arial\,sans-serif"><span style="font-size: 14pt">Ste. Michelle Estates</span></span></strong><br />\n&nbsp\;<br />\n<strong><span style="font-family: arial\,sans-serif">Chile</span></strong><br />\n<strong><span style="font-family: arial\,sans-serif"><span style="font-size: 10pt">&nbsp\;Haras Sauvignon Blanc</span></span></strong><br />\n&nbsp\;<br />\n<strong><span style="font-family: arial\,sans-serif">New&nbsp\;</span></strong><span style="font-family: arial\,sans-serif">&nbsp\;<strong><span style="font-family: arial\,sans-serif">Zealand</span></strong></span><br />\n<strong><span style="font-family: arial\,sans-serif"><span style="font-size: 10pt">Villa Maria Riesling</span></span></strong><br />\n&nbsp\;<br />\n<strong><span style="font-family: arial\,sans-serif">Italy</span></strong><br />\n<strong><span style="font-family: arial\,sans-serif"><span style="font-size: 10pt">Santa Cristina Sangiovese</span></span></strong><br />\n<strong><span style="font-family: arial\,sans-serif"><span style="font-size: 10pt">Villa Antinori Toscana</span></span></strong><br />\n&nbsp\;<br />\n<strong><span style="font-family: arial\,sans-serif">California</span></strong><br />\n<strong><span style="font-family: arial\,sans-serif"><span style="font-size: 10pt">Conn Creek Cabernet</span></span></strong><br />\n&nbsp\;<br />\n<strong><span style="font-family: arial\,sans-serif">Oregon</span></strong><br />\n<strong><span style="font-family: arial\,sans-serif"><span style="font-size: 10pt">Erath Pinot Noir</span></span></strong><br />\n&nbsp\;<br />\n<strong><span style="font-family: arial\,sans-serif">Washington</span></strong><br />\n<strong><span style="font-family: arial\,sans-serif"><span style="font-size: 10pt">Columbia Crest H3 Cabernet</span></span></strong><br />\n<strong><span style="font-family: arial\,sans-serif"><span style="font-size: 10pt">Grand Estates Amitage</span></span></strong><br />\n<strong><span style="font-family: arial\,sans-serif"><span style="font-size: 10pt">14 Hands Chardonnay</span></span></strong><br />\n
LOCATION:Broadway Pizza 8298 University Avenue Fridley\, MN 55432
UID:e.380.143020
SEQUENCE:3
DTSTAMP:20260426T003231Z
URL:http://members.metronorthchamber.org/events/details/wine-event-around-the-world-with-ste-michelle-estates-01-12-2012-143020
END:VEVENT

END:VCALENDAR
