BEGIN:VCALENDAR
VERSION:2.0
PRODID:-//ChamberMaster//Event Calendar 2.0//EN
METHOD:PUBLISH
X-PUBLISHED-TTL:P3D
REFRESH-INTERVAL:P3D
CALSCALE:GREGORIAN
BEGIN:VEVENT
DTSTART:20120731T214500Z
DTEND:20120731T233000Z
X-MICROSOFT-CDO-ALLDAYEVENT:FALSE
SUMMARY:Wine Dinner - Acapulco 2012
DESCRIPTION:Enjoy a sumptuous multi-course meal paired with wines from an Acapulco Supplier.\n\n\n\n"This is a can't miss dining and networking experience. Hosted by Sam Leon\, Mexican cuisine's personality comes to life in a five-course meal. Sam will share his family's history and stories behind the recipes for the dining selections\, balanced with thoughtful pairings of wine described in detail. Allegra is pleased to sponsor this event and welcomes everyone to attend this memorable experience."       ~ Tom   Newland\, Allegra Blaine\n\n\n\nRSVP Required\n\n$31 members/$41 not-yet members\n\n\n\nIf you are interested in carpooling from the MetroNorth office\, please indicate so upon registration.\n\n\n\nDRINK WINE\, HAVE FUN\, MEET PEOPLE
X-ALT-DESC;FMTTYPE=text/html:<br />\n<span style="color: rgb(0\, 0\, 128)\;"><span style="font-size: 11px\;"><span style="font-family: tahoma\;">Enjoy a sumptuous multi-course meal paired with wines from an Acapulco Supplier.<br />\n<br />\n&ldquo\;This is a can&rsquo\;t miss dining and networking experience. Hosted by Sam Leon\, Mexican cuisine&rsquo\;s personality comes to life in a five-course meal. Sam will share his family&rsquo\;s history and stories behind the recipes for the dining selections\, balanced with thoughtful pairings of wine described in detail. Allegra is pleased to sponsor this event and welcomes everyone to attend this memorable experience.&rdquo\;&nbsp\;<span _fck_bookmark="1" style="display: none\;"> </span><span _fck_bookmark="1" style="display: none\;">&nbsp\;&nbsp\;&nbsp\;&nbsp\; </span></span></span></span><span style="color:#000080\;"><span style="font-size: 11px\;"><span style="font-family: tahoma\;"><em>~ Tom <span _fck_bookmark="1" style="display: none\;">&nbsp\;</span><span _fck_bookmark="1" style="display: none\;">&nbsp\;</span>Newland\, Allegra Blaine</em><br />\n<br />\nRSVP Required<br />\n$31 members/$41 not-yet members<br />\n<br />\n<em>If you are interested in carpooling from the <span>MetroNorth</span> office\, please indicate so upon registration.</em><br />\n<br />\nDRINK WINE\, HAVE FUN\, MEET PEOPLE</span></span></span><br />\n
LOCATION:Acapulco\, Ramsey 7988 Sunwood Dr W Ramsey\, MN 55303
UID:e.380.143478
SEQUENCE:3
DTSTAMP:20260425T161422Z
URL:http://members.metronorthchamber.org/events/details/wine-dinner-acapulco-2012-07-31-2012-143478
END:VEVENT

END:VCALENDAR
