BEGIN:VCALENDAR
VERSION:2.0
PRODID:-//ChamberMaster//Event Calendar 2.0//EN
METHOD:PUBLISH
X-PUBLISHED-TTL:P3D
REFRESH-INTERVAL:P3D
CALSCALE:GREGORIAN
BEGIN:VEVENT
DTSTART:20120321T213000Z
DTEND:20120321T223000Z
X-MICROSOFT-CDO-ALLDAYEVENT:FALSE
SUMMARY:Wine Committee Meeting
DESCRIPTION:
X-ALT-DESC;FMTTYPE=text/html:
LOCATION:Harvest Grill Bunker Hills Golf Course 12800 Bunker Prairie Road\, Coon Rapids
UID:e.380.143778
SEQUENCE:3
DTSTAMP:20260425T211101Z
URL:http://members.metronorthchamber.org/events/details/wine-committee-meeting-03-21-2012-143778
END:VEVENT

END:VCALENDAR
