BEGIN:VCALENDAR
VERSION:2.0
PRODID:-//ChamberMaster//Event Calendar 2.0//EN
METHOD:PUBLISH
X-PUBLISHED-TTL:P3D
REFRESH-INTERVAL:P3D
CALSCALE:GREGORIAN
BEGIN:VEVENT
DTSTART:20160302T224500Z
DTEND:20160302T234500Z
X-MICROSOFT-CDO-ALLDAYEVENT:FALSE
SUMMARY:Wine Committee Meeting
DESCRIPTION:Like to drink wines and attend tastings? Our Wine Club likes to DRINK WINE\, HAVE FUN and MEET PEOPLE. We meet the first Wednesday of each month.
X-ALT-DESC;FMTTYPE=text/html:<span style="color: rgb(0\, 0\, 0)\;"><span style="font-size: 14px\;"><span style="font-family: arial\;">Like to drink wines and attend tastings? Our Wine Club likes to DRINK WINE\, HAVE FUN and MEET PEOPLE. We meet the first Wednesday of each month.</span></span></span>
LOCATION:TBD
UID:e.380.165828
SEQUENCE:3
DTSTAMP:20260422T180037Z
URL:http://members.metronorthchamber.org/events/details/wine-committee-meeting-03-02-2016-165828
END:VEVENT

END:VCALENDAR
