BEGIN:VCALENDAR
VERSION:2.0
PRODID:-//ChamberMaster//Event Calendar 2.0//EN
METHOD:PUBLISH
X-PUBLISHED-TTL:P3D
REFRESH-INTERVAL:P3D
CALSCALE:GREGORIAN
BEGIN:VEVENT
DTSTART:20151007T171500Z
DTEND:20151007T173000Z
X-MICROSOFT-CDO-ALLDAYEVENT:FALSE
SUMMARY:WildTree Ribbon Cutting - Jenny Hansen
DESCRIPTION:Help us Celebrate the ribbon cutting of WildTree! It will be held at the MetroNorth Chamber of Commerce. There will be food samples from WildTree.
X-ALT-DESC;FMTTYPE=text/html:Help us Celebrate the ribbon cutting of WildTree! It will be held at the MetroNorth Chamber of Commerce. There will be food samples from WildTree.
LOCATION:MetroNorth Chamber 9380 Central Ave. NE\, Suite 320 Blaine\, MN 55434
UID:e.380.159569
SEQUENCE:3
DTSTAMP:20260422T234409Z
URL:http://members.metronorthchamber.org/events/details/wildtree-ribbon-cutting-jenny-hansen-10-07-2015-159569
END:VEVENT

END:VCALENDAR
