BEGIN:VCALENDAR
VERSION:2.0
PRODID:-//ChamberMaster//Event Calendar 2.0//EN
METHOD:PUBLISH
X-PUBLISHED-TTL:P3D
REFRESH-INTERVAL:P3D
CALSCALE:GREGORIAN
BEGIN:VEVENT
DTSTART:20150407T170000Z
DTEND:20150407T180000Z
X-MICROSOFT-CDO-ALLDAYEVENT:FALSE
SUMMARY:Wildtree Lunch & Learn
DESCRIPTION:Come and learn why meal planning will save you both TIME and MONEY.  Please bring with you about 1-2 pounds of protein (in a cooler) that your family will consume for dinner and at the lunch and learn\, we will make it into a meal for your family\, using my products. \n\n\n\nThere is no cost\, just pre register with me at (651-238-5854) by Fri - April 3rd so I have a head count on how much Wildtree product to bring.  Of course\, I will also bring some lunch and goodies -  all "Wildtree'd"\n\n \n\nWildtree is a company that believes food should be natural\, nutritious\, delicious and EASY to prepare - all at the same time. \n\n\n\nSarah Cook\, Independent Representative\n\nwww.mywildtree.com/sarahcook
X-ALT-DESC;FMTTYPE=text/html:<br />\n<span style="font-size:14px\;"><span style="font-family:calibri\,sans-serif\;">Come and&nbsp\;learn why meal planning will save you both TIME and MONEY.&nbsp\; Please bring with you about 1-2 pounds of protein (in a cooler)&nbsp\;that your family will consume for dinner and at the lunch and learn\, we will make it into a meal for your family\, using my products.&nbsp\;<br />\n<br />\nThere is no cost\, just pre register with me at&nbsp\;(</span><span style="color: rgb(0\, 0\, 0)\; font-family: Arial\, Helvetica\, 'MS Sans Serif'\, sans-serif\; line-height: normal\;">651-238-5854</span><span style="font-family:calibri\,sans-serif\;">) by Fri - April 3rd so I have a head count on how much Wildtree product to bring.&nbsp\; Of course\, I will also bring some lunch and goodies - &nbsp\;all &quot\;Wildtree&#39\;d&quot\;<br />\n&nbsp\;<br />\nWildtree is a company that believes food should be natural\, nutritious\, delicious and EASY to prepare - all at the same time.&nbsp\;</span><br />\n<br />\nSarah Cook\, Independent Representative<br />\nwww.mywildtree.com/sarahcook&nbsp\;</span>
LOCATION:21st Century Bank Building 9380 Central Ave. NE\, Suite 320 Blaine\, MN 55434
UID:e.380.157068
SEQUENCE:3
DTSTAMP:20260423T094928Z
URL:http://members.metronorthchamber.org/events/details/wildtree-lunch-learn-04-07-2015-157068
END:VEVENT

END:VCALENDAR
